BEGIN:VCALENDAR
VERSION:2.0
PRODID:-//wp-events-plugin.com//7.2.3.1//EN
TZID:Europe/London
X-WR-TIMEZONE:Europe/London
BEGIN:VEVENT
UID:1-14497@westbourneforum.org.uk
DTSTART;TZID=Europe/London:20241122T130000
DTEND;TZID=Europe/London:20241122T140000
DTSTAMP:20241011T034542Z
URL:https://westbourneforum.org.uk/events/zumba-class-women-only-2024-11-2
 2/
SUMMARY:Zumba Class - Women only
DESCRIPTION:\n\nWOMEN ONLY\n\nEvery Friday in Term Time\n\nRefreshments inc
 luded
ATTACH;FMTTYPE=image/jpeg:https://i0.wp.com/westbourneforum.org.uk/wp-cont
 ent/uploads/2024/10/Zumba-Class-Women-Only-banner.webp?fit=1095%2C609&ssl=
 1
LOCATION:North Paddington Youth Club\, 229 Lanark Road\, London\, England\,
  W9 1EA\, Westminster\, United Kingdom
GEO:51.53207;-0.187474
X-APPLE-STRUCTURED-LOCATION;VALUE=URI;X-ADDRESS=229 Lanark Road\, London\, 
 England\, W9 1EA\, Westminster\, United Kingdom;X-APPLE-RADIUS=100;X-TITLE
 =North Paddington Youth Club:geo:51.53207,-0.187474
ORGANIZER;CN="Westbourne Forum":MAILTO:westbourne-admin@westbourneforum.org.uk
END:VEVENT
BEGIN:VTIMEZONE
TZID:Europe/London
X-LIC-LOCATION:Europe/London
BEGIN:STANDARD
DTSTART:20241027T010000
TZOFFSETFROM:+0100
TZOFFSETTO:+0000
TZNAME:GMT
END:STANDARD
END:VTIMEZONE
END:VCALENDAR