BEGIN:VCALENDAR
VERSION:2.0
PRODID:-//wp-events-plugin.com//7.2.3.1//EN
TZID:Europe/London
X-WR-TIMEZONE:Europe/London
BEGIN:VEVENT
UID:1-13456@westbourneforum.org.uk
DTSTART;TZID=Europe/London:20241118T180000
DTEND;TZID=Europe/London:20241118T193000
DTSTAMP:20240819T184503Z
URL:https://westbourneforum.org.uk/events/young-actors-4-2024-11-18/
SUMMARY:Young Actors
DESCRIPTION:FREE\n\nThis group allows young people to develop skills in the
  creative arts and be a safe space for self expression\, making new friend
 s and developing confidence.\n\nOur professional theatre facilitators will
  deliver the 90 minute workshops and the participants will have lots of sp
 ace to guide the process and themes.\n\nThis group is open to all abilitie
 s and experience.\n\nThis workshop is for young people aged 11 – 17 year
 s (in school year 7-12)\n\nTo book your place\, please fill in our form h
 ere.\n\nFurther details\n\nFunded by the Westminster City Council’s Comm
 unity Contribution Fund.
ATTACH;FMTTYPE=image/jpeg:https://i0.wp.com/westbourneforum.org.uk/wp-cont
 ent/uploads/2024/08/Young-Actors-banner.webp?fit=800%2C445&ssl=1
LOCATION:Grand Junction\, St Mary Magdalene Church\, Rowington Close\, West
 minster\, London\, W2 5TF\, England\, United Kingdom
GEO:51.5224;-0.188497
X-APPLE-STRUCTURED-LOCATION;VALUE=URI;X-ADDRESS=St Mary Magdalene Church\, 
 Rowington Close\, Westminster\, London\, W2 5TF\, England\, United Kingdom
 ;X-APPLE-RADIUS=100;X-TITLE=Grand Junction:geo:51.5224,-0.188497
ORGANIZER;CN="Westbourne Forum":MAILTO:westbourne-admin@westbourneforum.org.uk
END:VEVENT
BEGIN:VTIMEZONE
TZID:Europe/London
X-LIC-LOCATION:Europe/London
BEGIN:STANDARD
DTSTART:20241027T010000
TZOFFSETFROM:+0100
TZOFFSETTO:+0000
TZNAME:GMT
END:STANDARD
END:VTIMEZONE
END:VCALENDAR