BEGIN:VCALENDAR
VERSION:2.0
PRODID:-//wp-events-plugin.com//7.2.3.1//EN
TZID:Europe/London
X-WR-TIMEZONE:Europe/London
BEGIN:VEVENT
UID:1-10160@westbourneforum.org.uk
DTSTART;TZID=Europe/London:20240219T180000
DTEND;TZID=Europe/London:20240219T193000
DTSTAMP:20240219T175234Z
URL:https://westbourneforum.org.uk/events/young-actors-3-2024-02-19/
SUMMARY:Young Actors
DESCRIPTION:\n\nBooking and further details\n\nThis group allows young peop
 le to develop skills in the creative arts and be a safe space for self exp
 ression\, making new friends and developing confidence.\n\nOur professiona
 l theatre facilitators will deliver the 90 minute workshops and the partic
 ipants will have lots of space to guide the process and themes.\n\nThis gr
 oup is open to all abilities and experience.\n\nThis workshop is for young
  people aged 11-17 years (in school year 7-12)\n\nTo book your place\, ple
 ase fill in our form here.\n\nFunded by the Westminster City Council’s 
 Community Contribution Fund.\n\n&nbsp\;
ATTACH;FMTTYPE=image/jpeg:https://i0.wp.com/westbourneforum.org.uk/wp-cont
 ent/uploads/2024/02/young-actors-banner-2.webp?fit=800%2C445&ssl=1
LOCATION:Grand Junction\, St Mary Magdalene Church\, Rowington Close\, West
 minster\, London\, W2 5TF\, England\, United Kingdom
GEO:51.5224;-0.188497
X-APPLE-STRUCTURED-LOCATION;VALUE=URI;X-ADDRESS=St Mary Magdalene Church\, 
 Rowington Close\, Westminster\, London\, W2 5TF\, England\, United Kingdom
 ;X-APPLE-RADIUS=100;X-TITLE=Grand Junction:geo:51.5224,-0.188497
ORGANIZER;CN="Westbourne Forum":MAILTO:westbourne-admin@westbourneforum.org.uk
END:VEVENT
BEGIN:VTIMEZONE
TZID:Europe/London
X-LIC-LOCATION:Europe/London
BEGIN:STANDARD
DTSTART:20231029T010000
TZOFFSETFROM:+0100
TZOFFSETTO:+0000
TZNAME:GMT
END:STANDARD
END:VTIMEZONE
END:VCALENDAR