BEGIN:VCALENDAR
VERSION:2.0
PRODID:-//wp-events-plugin.com//7.2.3.1//EN
TZID:Europe/London
X-WR-TIMEZONE:Europe/London
BEGIN:VEVENT
UID:1-3564@westbourneforum.org.uk
DTSTART;TZID=Europe/London:20220110T180000
DTEND;TZID=Europe/London:20220110T193000
DTSTAMP:20220430T175722Z
URL:https://westbourneforum.org.uk/events/young-actors-2022-01-10/
SUMMARY:Young Actors
DESCRIPTION:\n\nThis group will allow young people to develop skills in the
  creative arts and be a safe space for self expression\, making new friend
 s and developing confidence.\n\nThe professional theatre facilitators will
  deliver the 90 minute workshops and the participants will have lots of sp
 ace to guide the process and themes.\n\nThis group is open to all abilitie
 s and experience. Young people with additional needs are welcome and can b
 e provided with 121 support. Please email Joanne for more information.\n\n
 This workshop is for young people aged 11-17 years ( in school year 7 - 12
  )\n\nTo book your place please contact the Young People and Schools Manag
 er\, Joanne\, for an application form – joanne@grandjunction.org.uk\n\nF
 unded by the Westminster’s Brighter Futures Fund 2020.\n\nWebpage
ATTACH;FMTTYPE=image/jpeg:https://i0.wp.com/westbourneforum.org.uk/wp-cont
 ent/uploads/2021/12/youthactors.GJ-header.webp?fit=800%2C447&ssl=1
LOCATION:Grand Junction\, St Mary Magdalene Church\, Rowington Close\, West
 minster\, London\, W2 5TF\, England\, United Kingdom
GEO:51.5224;-0.188497
X-APPLE-STRUCTURED-LOCATION;VALUE=URI;X-ADDRESS=St Mary Magdalene Church\, 
 Rowington Close\, Westminster\, London\, W2 5TF\, England\, United Kingdom
 ;X-APPLE-RADIUS=100;X-TITLE=Grand Junction:geo:51.5224,-0.188497
ORGANIZER;CN="Westbourne Forum":MAILTO:westbourne-admin@westbourneforum.org.uk
END:VEVENT
BEGIN:VTIMEZONE
TZID:Europe/London
X-LIC-LOCATION:Europe/London
BEGIN:STANDARD
DTSTART:20211031T010000
TZOFFSETFROM:+0100
TZOFFSETTO:+0000
TZNAME:GMT
END:STANDARD
END:VTIMEZONE
END:VCALENDAR