BEGIN:VCALENDAR
VERSION:2.0
PRODID:-//wp-events-plugin.com//7.2.3.1//EN
TZID:Europe/London
X-WR-TIMEZONE:Europe/London
BEGIN:VEVENT
UID:1-14772@westbourneforum.org.uk
DTSTART;TZID=Europe/London:20241126T113000
DTEND;TZID=Europe/London:20241126T123000
DTSTAMP:20241029T193237Z
URL:https://westbourneforum.org.uk/events/yin-and-hatha-infused-yoga-2024-
 11-26/
SUMMARY:Yin and Hatha Infused Yoga
DESCRIPTION:\n\n+44 7591 215 808\n\n&nbsp\;\n\n
ATTACH;FMTTYPE=image/jpeg:https://i0.wp.com/westbourneforum.org.uk/wp-cont
 ent/uploads/2024/10/Yin-and-Hatha-Infused-Yoga-banner.webp?fit=850%2C473&s
 sl=1
LOCATION:Porchester Centre\, Queensway\, London\, England\, W2 5HS\, Westmi
 nster\, United Kingdom
GEO:51.517062;-0.188999
X-APPLE-STRUCTURED-LOCATION;VALUE=URI;X-ADDRESS=Queensway\, London\, Englan
 d\, W2 5HS\, Westminster\, United Kingdom;X-APPLE-RADIUS=100;X-TITLE=Porch
 ester Centre:geo:51.517062,-0.188999
ORGANIZER;CN="Westbourne Forum":MAILTO:westbourne-admin@westbourneforum.org.uk
END:VEVENT
BEGIN:VTIMEZONE
TZID:Europe/London
X-LIC-LOCATION:Europe/London
BEGIN:STANDARD
DTSTART:20241027T010000
TZOFFSETFROM:+0100
TZOFFSETTO:+0000
TZNAME:GMT
END:STANDARD
END:VTIMEZONE
END:VCALENDAR