BEGIN:VCALENDAR
VERSION:2.0
PRODID:-//wp-events-plugin.com//7.2.3.1//EN
TZID:Europe/London
X-WR-TIMEZONE:Europe/London
BEGIN:VEVENT
UID:1-14941@westbourneforum.org.uk
DTSTART;TZID=Europe/London:20241130T093000
DTEND;TZID=Europe/London:20241130T160000
DTSTAMP:20241130T032619Z
URL:https://westbourneforum.org.uk/events/winter-walk-for-life/
SUMMARY:Winter Walk for Life
DESCRIPTION:\n\n&#x1f4cd\; Starting Point: 9.30 am\, Pavilion\, Jason Rober
 ts Foundation\, NW10 8LW\, Stonebridge\nRoute: 3K walk from Stonebridge to
  Wembley Stadium and back.\n\nWe're raising awareness for Cancer and encou
 raging fitness across our Brent community. Walk with us\, bring your famil
 y and friends\, and let’s make a difference together!\n\nWe need your su
 pport!\n\nSign up on Eventbrite\n\n&#x1f31f\; Refreshments: Enjoy hot Cari
 bbean soup and water along the route to keep you energized.\n\nLet’s bui
 ld community spirit\, stay active\, and make this event a success. Thank y
 ou for your support!\n\nYou don't have to live in Brent to take part in th
 is.\n\nNines Health and Fitness Club | nhfc999@gmail.com | 07568 185 039\n
 \n
ATTACH;FMTTYPE=image/jpeg:https://i0.wp.com/westbourneforum.org.uk/wp-cont
 ent/uploads/2024/11/Winter-Walk-for-Life-banner.webp?fit=800%2C445&ssl=1
LOCATION:Jason Roberts Foundation\, Stonebridge Recreation Ground\, London\
 , England\, NW10 8LW\, Brent\, United Kingdom
GEO:51.541064;-0.266296
X-APPLE-STRUCTURED-LOCATION;VALUE=URI;X-ADDRESS=Stonebridge Recreation Grou
 nd\, London\, England\, NW10 8LW\, Brent\, United Kingdom;X-APPLE-RADIUS=1
 00;X-TITLE=Jason Roberts Foundation:geo:51.541064,-0.266296
ORGANIZER;CN="Westbourne Forum":MAILTO:westbourne-admin@westbourneforum.org.uk
END:VEVENT
BEGIN:VTIMEZONE
TZID:Europe/London
X-LIC-LOCATION:Europe/London
BEGIN:STANDARD
DTSTART:20241027T010000
TZOFFSETFROM:+0100
TZOFFSETTO:+0000
TZNAME:GMT
END:STANDARD
END:VTIMEZONE
END:VCALENDAR