BEGIN:VCALENDAR
VERSION:2.0
PRODID:-//wp-events-plugin.com//7.2.3.1//EN
TZID:Europe/London
X-WR-TIMEZONE:Europe/London
BEGIN:VEVENT
UID:1-15049@westbourneforum.org.uk
DTSTART;TZID=Europe/London:20241223T100000
DTEND;TZID=Europe/London:20241223T140000
DTSTAMP:20241210T212034Z
URL:https://westbourneforum.org.uk/events/winter-holiday-camp-haf-with-pro
 -touch-2024-12-23/
SUMMARY:Winter Holiday Camp HAF with Pro Touch
DESCRIPTION:Our Winter holiday playscheme is not just a break from school 
 – it's a chance for children aged 7 - 11\, eligible for Free School Meal
 s\, in Camden and Westminster to experience a week of joy\, creativity\, a
 nd connection. As part of the government's holiday activities and food pro
 gramme\, this playscheme is fun for the children and a valuable resource f
 or families.\n\nPlanned Activities\n\nEngaging indoor games\nCreative arts
  and crafts\nExciting cooking sessions\nA memorable trip to a local activi
 ty\nAnd\, of course\, a nourishing lunch provided each day.\nEmbrace the s
 pirit of Fitzrovia\, where children have fun and build lasting memories an
 d friendships.\n\nWe look forward to welcoming your children to a week of 
 laughter\, learning\, and warmth.\n\nBooking Information\n\nSpaces are lim
 ited\, so be sure to book your child's place. Children won't be able to tu
 rn up on the day without a confirmed booking.\n\nWestminster Residents: Bo
 ok via the ProTouch booking system here.\n\nCamden Residents: Book via the
  Camden booking system here.\n\nFor more information\, contact ProTouch SA
  at jawad@protouchsa.co.uk or visit the Fitzrovia Community Centre at 2 Fo
 ley Street\, London W1\n\nFurther details
ATTACH;FMTTYPE=image/jpeg:https://i0.wp.com/westbourneforum.org.uk/wp-cont
 ent/uploads/2024/12/Winter-Holiday-Camp-HAF-with-Pro-Touch-banner.webp?fit
 =800%2C445&ssl=1
LOCATION:Fitzrovia Community Centre\, 2 Foley Street\, London\, England\, W
 1W 6DL\, Westminster\, United Kingdom
GEO:51.520262;-0.138631
X-APPLE-STRUCTURED-LOCATION;VALUE=URI;X-ADDRESS=2 Foley Street\, London\, E
 ngland\, W1W 6DL\, Westminster\, United Kingdom;X-APPLE-RADIUS=100;X-TITLE
 =Fitzrovia Community Centre:geo:51.520262,-0.138631
ORGANIZER;CN="Westbourne Forum":MAILTO:westbourne-admin@westbourneforum.org.uk
END:VEVENT
BEGIN:VTIMEZONE
TZID:Europe/London
X-LIC-LOCATION:Europe/London
BEGIN:STANDARD
DTSTART:20241027T010000
TZOFFSETFROM:+0100
TZOFFSETTO:+0000
TZNAME:GMT
END:STANDARD
END:VTIMEZONE
END:VCALENDAR