BEGIN:VCALENDAR
VERSION:2.0
PRODID:-//wp-events-plugin.com//7.2.3.1//EN
TZID:Europe/London
X-WR-TIMEZONE:Europe/London
BEGIN:VEVENT
UID:1-8742@westbourneforum.org.uk
DTSTART;TZID=Europe/London:20231208T153000
DTEND;TZID=Europe/London:20231208T173000
DTSTAMP:20231109T182402Z
URL:https://westbourneforum.org.uk/events/winter-fair/
SUMMARY:Winter Fair
DESCRIPTION:
ATTACH;FMTTYPE=image/jpeg:https://i0.wp.com/westbourneforum.org.uk/wp-cont
 ent/uploads/2023/11/King-Solomons-Academy-Winter-Fair-banner.webp?fit=990%
 2C550&ssl=1
LOCATION:King Solomon Academy\, 57C Penfold Street\, London\, England\, NW1
  6RX\, Westminster\, United Kingdom
GEO:51.521282;-0.169274
X-APPLE-STRUCTURED-LOCATION;VALUE=URI;X-ADDRESS=57C Penfold Street\, London
 \, England\, NW1 6RX\, Westminster\, United Kingdom;X-APPLE-RADIUS=100;X-T
 ITLE=King Solomon Academy:geo:51.521282,-0.169274
ORGANIZER;CN="Westbourne Forum":MAILTO:westbourne-admin@westbourneforum.org.uk
END:VEVENT
BEGIN:VTIMEZONE
TZID:Europe/London
X-LIC-LOCATION:Europe/London
BEGIN:STANDARD
DTSTART:20231029T010000
TZOFFSETFROM:+0100
TZOFFSETTO:+0000
TZNAME:GMT
END:STANDARD
END:VTIMEZONE
END:VCALENDAR