BEGIN:VCALENDAR
VERSION:2.0
PRODID:-//wp-events-plugin.com//7.2.3.1//EN
TZID:Europe/London
X-WR-TIMEZONE:Europe/London
BEGIN:VEVENT
UID:1-8974@westbourneforum.org.uk
DTSTART;TZID=Europe/London:20240104T090000
DTEND;TZID=Europe/London:20240104T150000
DTSTAMP:20231207T191628Z
URL:https://westbourneforum.org.uk/events/winter-camp-2024-01-04/
SUMMARY:Winter Camp
DESCRIPTION:PLEASE NOTE: This project is part of the Holiday Activities &a
 mp\; Food (HAF) Programme\, for young people in Westminster and Kensington
  &amp\; Chelsea who are eligible for benefits-related Free School Meals*\
 n\nAt Active Day Camps\, our Multi-Activity programme offers children a ch
 oice of sports\, arts and crafts\, drama and specialist activities. Active
  Day Camps allows children the chance to create a unique and bespoke camp 
 day experience.\n\nAge 5 - 12\n\nBooking and further details\n\nCall 0773
 9 388 553 or email us at enquiries@activedaycamps.com\n\nProvider Websit
 e
ATTACH;FMTTYPE=image/jpeg:https://i0.wp.com/westbourneforum.org.uk/wp-cont
 ent/uploads/2023/12/74b2ab79-c0cd-4609-b3e8-0555421e960b-banner.webp?fit=8
 00%2C445&ssl=1
LOCATION:Marlborough Primary School\, Draycott Avenue\, London\, England\, 
 SW3 3AP\, Kensington and Chelsea\, United Kingdom
GEO:51.492679;-0.165887
X-APPLE-STRUCTURED-LOCATION;VALUE=URI;X-ADDRESS=Draycott Avenue\, London\, 
 England\, SW3 3AP\, Kensington and Chelsea\, United Kingdom;X-APPLE-RADIUS
 =100;X-TITLE=Marlborough Primary School:geo:51.492679,-0.165887
ORGANIZER;CN="Westbourne Forum":MAILTO:westbourne-admin@westbourneforum.org.uk
END:VEVENT
BEGIN:VTIMEZONE
TZID:Europe/London
X-LIC-LOCATION:Europe/London
BEGIN:STANDARD
DTSTART:20231029T010000
TZOFFSETFROM:+0100
TZOFFSETTO:+0000
TZNAME:GMT
END:STANDARD
END:VTIMEZONE
END:VCALENDAR