BEGIN:VCALENDAR
VERSION:2.0
PRODID:-//wp-events-plugin.com//7.2.3.1//EN
TZID:Europe/London
X-WR-TIMEZONE:Europe/London
BEGIN:VEVENT
UID:1-8970@westbourneforum.org.uk
DTSTART;TZID=Europe/London:20240105T090000
DTEND;TZID=Europe/London:20240105T150000
DTSTAMP:20231207T191854Z
URL:https://westbourneforum.org.uk/events/winter-camp-2-2024-01-05/
SUMMARY:Winter Camp
DESCRIPTION:PLEASE NOTE: This project is part of the Holiday Activities &a
 mp\; Food (HAF) Programme\, for young people in Westminster and Kensington
  &amp\; Chelsea who are eligible for benefits-related Free School Meals*\
 n\nAt Active Day Camps\, our Multi-Activity programme consists of a fun ti
 metable with a choice of activities for every session\, making each day un
 ique for every child. From the sporty to the arty\, this camp caters for t
 he needs of every child and sibling combinations.\n\nAge 5 - 12\n\nBooking
  and further details\n\nCall 07739 388 553 or email us at enquiries@act
 ivedaycamps.com\n\nProvider Website
ATTACH;FMTTYPE=image/jpeg:https://i0.wp.com/westbourneforum.org.uk/wp-cont
 ent/uploads/2023/12/PHOTO-2023-04-07-14-29-30_2023-11-22-120628_iyzr-banne
 r.webp?fit=800%2C445&ssl=1
LOCATION:Colville Primary School\, Lonsdale Road\, London\, England\, W11 2
 DF\, Kensington and Chelsea\, United Kingdom
GEO:51.514677;-0.203344
X-APPLE-STRUCTURED-LOCATION;VALUE=URI;X-ADDRESS=Lonsdale Road\, London\, En
 gland\, W11 2DF\, Kensington and Chelsea\, United Kingdom;X-APPLE-RADIUS=1
 00;X-TITLE=Colville Primary School:geo:51.514677,-0.203344
ORGANIZER;CN="Westbourne Forum":MAILTO:westbourne-admin@westbourneforum.org.uk
END:VEVENT
BEGIN:VTIMEZONE
TZID:Europe/London
X-LIC-LOCATION:Europe/London
BEGIN:STANDARD
DTSTART:20231029T010000
TZOFFSETFROM:+0100
TZOFFSETTO:+0000
TZNAME:GMT
END:STANDARD
END:VTIMEZONE
END:VCALENDAR