BEGIN:VCALENDAR
VERSION:2.0
PRODID:-//wp-events-plugin.com//7.2.3.1//EN
TZID:Europe/London
X-WR-TIMEZONE:Europe/London
BEGIN:VEVENT
UID:1-10057@westbourneforum.org.uk
DTSTART;TZID=Europe/London:20240215T140000
DTEND;TZID=Europe/London:20240215T180000
DTSTAMP:20240210T061323Z
URL:https://westbourneforum.org.uk/events/westside-basketball-february-hal
 f-term-camp-2023-2024-02-15/
SUMMARY:Westside Basketball February Half Term Camp 2024
DESCRIPTION:PLEASE NOTE: This project is part of the February Half Term act
 ivities funded by Westminster City Council.\n\nWestside Basketball Club wi
 ll be running a junior basketball camp for boys and girls at North Padding
 ton Youth Club in Maida Vale from Monday 12th February to Thursday 15th Fe
 bruary 2024.\n\nThe club has a full size sports hall and the camp will be 
 led by Coach Patrick and Coach Jimmy who won the U18’s Boys National Cha
 mpionship last year\, who will bring their considerable expertise to provi
 de a programme that will help children develop new skills or knowledge\, c
 onsolidate new skills or knowledge and improve physical fitness.\n\nDetail
 s of free meal provided: We will providing a mixture of hot and cold nutri
 tious / healthy meals at each session including fresh fruit and snacks eve
 ry day including drinks.\n\nAges 8 - 16\n\nNearest bus stop: 98 16 332 ( A
 ll of these buses stop by St Georges Secondary School / We are opposite th
 e school )\nNearest tube stop: Maida Vale ( Bakerloo Line )\n\nContact ema
 il: info@oneldn.org.uk\n\n*Cost for non-Free School Meals Children and You
 ng People: £15 per day or £40 per week\n\nBooking required
ATTACH;FMTTYPE=image/jpeg:https://i0.wp.com/westbourneforum.org.uk/wp-cont
 ent/uploads/2024/02/Westside-Basketball-February-Half-Term-Camp-2023-banne
 r.webp?fit=800%2C445&ssl=1
LOCATION:North Paddington Youth Club\, 229 Lanark Road\, London\, England\,
  W9 1EA\, Westminster\, United Kingdom
GEO:51.53207;-0.187474
X-APPLE-STRUCTURED-LOCATION;VALUE=URI;X-ADDRESS=229 Lanark Road\, London\, 
 England\, W9 1EA\, Westminster\, United Kingdom;X-APPLE-RADIUS=100;X-TITLE
 =North Paddington Youth Club:geo:51.53207,-0.187474
ORGANIZER;CN="Westbourne Forum":MAILTO:westbourne-admin@westbourneforum.org.uk
END:VEVENT
BEGIN:VTIMEZONE
TZID:Europe/London
X-LIC-LOCATION:Europe/London
BEGIN:STANDARD
DTSTART:20231029T010000
TZOFFSETFROM:+0100
TZOFFSETTO:+0000
TZNAME:GMT
END:STANDARD
END:VTIMEZONE
END:VCALENDAR