BEGIN:VCALENDAR
VERSION:2.0
PRODID:-//wp-events-plugin.com//7.2.3.1//EN
TZID:Europe/London
X-WR-TIMEZONE:Europe/London
BEGIN:VEVENT
UID:1-19815@westbourneforum.org.uk
DTSTART;TZID=Europe/London:20251029T100000
DTEND;TZID=Europe/London:20251029T140000
DTSTAMP:20251019T175058Z
URL:https://westbourneforum.org.uk/events/westminster-supplementary-school
 -2025-10-29/
SUMMARY:Westminster Supplementary School
DESCRIPTION:\n\nWestminster Supplementary School is running a four day free
  of charge enriching HAF activities and healthy food for young children ag
 ed between 4 - 15 years old. This ½ Term which the Westminster City Counc
 il is funding local organisations to offer free activities and a healthy m
 eal offer to children and young people in the borough.\n\nThis provision w
 ill ensure that children and young people are supported in the half-term t
 o access life enhancing and creative opportunities\, learn about the impor
 tance of healthy eating and physical exercise and receive a healthy meal p
 er day.\n\nActivities this half-term include sport sessions\, cultural tri
 ps\, arts\, crafts and drama sessions\, residential\, cookery sessions\, p
 ersonal development and educational programmes\; and\, health and wellbein
 g activities.\n\nThe camps are free of charge for young people on free sch
 ool meals. One free healthy meals will be provided during the day (either 
 as a breakfast snack or a lunch . The children are welcomed to attend as m
 any session they would like to depending on the spaces available. Places w
 ill be allocated on a first come\, first served basis so register early to
  avoid disappointment.\n\nWe will be sharing a limited amount of data with
  Kensington &amp\; Chelsea and Westminster City Council as part of the mon
 itoring requirements for this programme. This information will include you
 r child’s date of birth\, school and full name. This information will be
  matched with school census information to monitor eligibility and reach o
 f the Holiday and Activity Fund Programme. If you have any questions about
  this please contact me either by calling 07888735602 or emailing to yawoo
 zezzat@yahoo.com\n\nIf you would like to attend any of these activities an
 d are not entitled to FSM\, please register your interest at the following
  email.\n\n* Also to remind that our Arabic language and tuition classes w
 ill continue during the school terms.\n\nwss.gov@gmail.com\n\nThere are li
 mited places available on the camps so please register your interest as so
 on as possible.\n\nPlease fill in the below form by answering all related 
 questions if you would like your child to take part in our activates.\n\nh
 ttps://docs.google.com/forms/...\n\nFurther details\nwww.onewestminster.or
 g.uk/directory/11597 | yawoozezzat@yahoo.com | 07888 735 602\n&nbsp\;
ATTACH;FMTTYPE=image/jpeg:https://i0.wp.com/westbourneforum.org.uk/wp-cont
 ent/uploads/2025/10/Westminster-Supplementary-School.webp?fit=800%2C445&ss
 l=1
LOCATION:Westminster Supplementary School\, Frances Street\, London\, Engla
 nd\, SW1V 1TA\, Westminster\, United Kingdom
GEO:51.493905;-0.139903
X-APPLE-STRUCTURED-LOCATION;VALUE=URI;X-ADDRESS=Frances Street\, London\, E
 ngland\, SW1V 1TA\, Westminster\, United Kingdom;X-APPLE-RADIUS=100;X-TITL
 E=Westminster Supplementary School:geo:51.493905,-0.139903
ORGANIZER;CN="Westbourne Forum":MAILTO:westbourne-admin@westbourneforum.org.uk
END:VEVENT
BEGIN:VTIMEZONE
TZID:Europe/London
X-LIC-LOCATION:Europe/London
BEGIN:STANDARD
DTSTART:20251026T010000
TZOFFSETFROM:+0100
TZOFFSETTO:+0000
TZNAME:GMT
END:STANDARD
END:VTIMEZONE
END:VCALENDAR