BEGIN:VCALENDAR
VERSION:2.0
PRODID:-//wp-events-plugin.com//7.2.3.1//EN
TZID:Europe/London
X-WR-TIMEZONE:Europe/London
BEGIN:VEVENT
UID:1-5797@westbourneforum.org.uk
DTSTART;TZID=Europe/London:20230414T123000
DTEND;TZID=Europe/London:20230414T173000
DTSTAMP:20230410T203215Z
URL:https://westbourneforum.org.uk/events/westminster-ball-and-eat-easter-
 holiday-basketball-2-2023-04-14/
SUMMARY:Westminster Ball and Eat: Easter Holiday Basketball
DESCRIPTION:PLEASE NOTE: This project is part of the Holiday Activities &am
 p\; Food (HAF) Programme\, for young people in Westminster who are eligibl
 e for Free School Meals.*\n\nBasketball sessions at St Augustine’s Sport
 s Centre to help young people improve physical &amp\; mental wellbeing\, d
 evelop new skills\, and interact with peers &amp\; expert coaches. Partici
 pants will be provided with a healthy meal after each session and receive 
 nutritional education/advice to help them eat healthier at home.\n\n\n\nDe
 tails of free meal provided: Sandwich\, Fruit/Oat Bar &amp\; Drink\n\nVenu
 e name and address: St Augustine’s Sports Centre. Oxford Rd\, London NW6
  5AW\nNearest bus stop: Carlton Vale (bus stop MB)\nNearest tube stop: Kil
 burn Park Underground Station\n\nContact email: info@thelba.co.uk\nContact
  phone number: 020 3778 0075\n\n*Cost for non-Free School Meals Children a
 nd Young People:\nRegular: £31.57 (Day Ticket)\, £92.79 (Week Ticket)\, 
 £163.20 (2-Week Ticket)\nConcession: £16.15 (Day Ticket)\, £46.75 (Week
  Ticket)\, £81.96 (2-Week Ticket)\n\nBooking required\n\nAges: 11 - 16\n\
 nActivity by: London Basketball Association\n\n
ATTACH;FMTTYPE=image/jpeg:https://i0.wp.com/westbourneforum.org.uk/wp-cont
 ent/uploads/2023/04/Westminster-Ball-and-Eat-Easter-Holiday-Basketball-3-h
 eader.webp?fit=800%2C445&ssl=1
LOCATION:St Augustine’s Sports Centre\, Oxford Rd\, London\, England\, NW
 6 5AW\, United Kingdom
GEO:51.533636;-0.193294
X-APPLE-STRUCTURED-LOCATION;VALUE=URI;X-ADDRESS=Oxford Rd\, London\, Englan
 d\, NW6 5AW\, United Kingdom;X-APPLE-RADIUS=100;X-TITLE=St Augustine’s S
 ports Centre:geo:51.533636,-0.193294
ORGANIZER;CN="Westbourne Forum":MAILTO:westbourne-admin@westbourneforum.org.uk
END:VEVENT
BEGIN:VTIMEZONE
TZID:Europe/London
X-LIC-LOCATION:Europe/London
BEGIN:DAYLIGHT
DTSTART:20230326T020000
TZOFFSETFROM:+0000
TZOFFSETTO:+0100
TZNAME:BST
END:DAYLIGHT
END:VTIMEZONE
END:VCALENDAR