BEGIN:VCALENDAR
VERSION:2.0
PRODID:-//wp-events-plugin.com//7.2.3.1//EN
TZID:Europe/London
X-WR-TIMEZONE:Europe/London
BEGIN:VEVENT
UID:1-15243@westbourneforum.org.uk
DTSTART;TZID=Europe/London:20250125T130000
DTEND;TZID=Europe/London:20250125T160000
DTSTAMP:20250120T202338Z
URL:https://westbourneforum.org.uk/events/westbourne-world-2025/
SUMMARY:Westbourne World 2025
DESCRIPTION:\n\nWith Showmi Dance\, traditional Storytelling\, Jinga Jinga 
 Capoiera\, Happy Lizzy's house band - Disorder\, and uplifting singers Fel
 icia and Rhumzy! Henna\, Facepainting\, Hand Massage from Mosaic\, Chinese
  New Year Paper Crafts with Flourish\, and delicious food from Harrow Road
  Soup Kitchen!!!\n
ATTACH;FMTTYPE=image/jpeg:https://i0.wp.com/westbourneforum.org.uk/wp-cont
 ent/uploads/2025/01/Westbourne-World-2025-banner-v2.webp?fit=1016%2C565&ss
 l=1
LOCATION:Westbourne Park Baptist Church\, Porchester Road\, London\, Englan
 d\, W2 5DX\, Westminster\, United Kingdom
GEO:51.518639;-0.189492
X-APPLE-STRUCTURED-LOCATION;VALUE=URI;X-ADDRESS=Porchester Road\, London\, 
 England\, W2 5DX\, Westminster\, United Kingdom;X-APPLE-RADIUS=100;X-TITLE
 =Westbourne Park Baptist Church:geo:51.518639,-0.189492
ORGANIZER;CN="Westbourne Forum":MAILTO:westbourne-admin@westbourneforum.org.uk
END:VEVENT
BEGIN:VTIMEZONE
TZID:Europe/London
X-LIC-LOCATION:Europe/London
BEGIN:STANDARD
DTSTART:20241027T010000
TZOFFSETFROM:+0100
TZOFFSETTO:+0000
TZNAME:GMT
END:STANDARD
END:VTIMEZONE
END:VCALENDAR