BEGIN:VCALENDAR
VERSION:2.0
PRODID:-//wp-events-plugin.com//7.2.3.1//EN
TZID:Europe/London
X-WR-TIMEZONE:Europe/London
BEGIN:VEVENT
UID:1-378@westbourneforum.org.uk
DTSTART;TZID=Europe/London:20201230T140000
DTEND;TZID=Europe/London:20201231T150000
DTSTAMP:20210128T162301Z
URL:https://westbourneforum.org.uk/events/westbourne-wednesday-sing-along-
 2020-12-30/
SUMMARY:Westbourne Wednesday Sing Along
DESCRIPTION:Bringing Our Community Together\n\nWednesdays at 2 - 3 pm on Zo
 om\n\nContact Sadia on 07925 937 713\n( English\, French and Arabic spoken
  )
ATTACH;FMTTYPE=image/jpeg:https://i0.wp.com/westbourneforum.org.uk/wp-cont
 ent/uploads/2020/12/singalong_featured-image.jpg?fit=800%2C445&ssl=1
ORGANIZER;CN="Westbourne Forum":MAILTO:westbourne-admin@westbourneforum.org.uk
END:VEVENT
BEGIN:VTIMEZONE
TZID:Europe/London
X-LIC-LOCATION:Europe/London
BEGIN:STANDARD
DTSTART:20201025T010000
TZOFFSETFROM:+0100
TZOFFSETTO:+0000
TZNAME:GMT
END:STANDARD
END:VTIMEZONE
END:VCALENDAR