BEGIN:VCALENDAR
VERSION:2.0
PRODID:-//wp-events-plugin.com//7.2.3.1//EN
TZID:Europe/London
X-WR-TIMEZONE:Europe/London
BEGIN:VEVENT
UID:1-10@westbourneforum.org.uk
DTSTART;TZID=Europe/London:20190616T130000
DTEND;TZID=Europe/London:20190616T170000
DTSTAMP:20190605T165245Z
URL:https://westbourneforum.org.uk/events/westbourne-summer-festival/
SUMMARY:Westbourne Summer Festival
DESCRIPTION:This summer Westbourne Forum will bring it's annual Summer Fest
 ival back to the Canal where it has tremendously successful for the last f
 ew years!\n\nFor more details please click here
LOCATION:The Canalside\, Warwick Estate\, Westminster\, London\, W2\, Engla
 nd\, United Kingdom
GEO:51.522673;-0.190812
X-APPLE-STRUCTURED-LOCATION;VALUE=URI;X-ADDRESS=Warwick Estate\, Westminste
 r\, London\, W2\, England\, United Kingdom;X-APPLE-RADIUS=100;X-TITLE=The 
 Canalside:geo:51.522673,-0.190812
ORGANIZER;CN="Westbourne Forum":MAILTO:westbourne-admin@westbourneforum.org.uk
END:VEVENT
BEGIN:VTIMEZONE
TZID:Europe/London
X-LIC-LOCATION:Europe/London
BEGIN:DAYLIGHT
DTSTART:20190331T020000
TZOFFSETFROM:+0000
TZOFFSETTO:+0100
TZNAME:BST
END:DAYLIGHT
END:VTIMEZONE
END:VCALENDAR