BEGIN:VCALENDAR
VERSION:2.0
PRODID:-//wp-events-plugin.com//7.2.3.1//EN
TZID:Europe/London
X-WR-TIMEZONE:Europe/London
BEGIN:VEVENT
UID:1-8@westbourneforum.org.uk
DTSTART;TZID=Europe/London:20190425T093000
DTEND;TZID=Europe/London:20190425T103000
DTSTAMP:20210406T004909Z
URL:https://westbourneforum.org.uk/events/westbourne-summer-festival-steer
 ing-group-2019-04-25/
SUMMARY:Westbourne Summer Festival Steering Group
DESCRIPTION:Festival date: Sunday 16 June 2019 - 1pm-5pm\n\n&nbsp\;
LOCATION:\, \, 
GEO:51.526025;-0.195653
X-APPLE-STRUCTURED-LOCATION;VALUE=URI;X-ADDRESS=\, ;X-APPLE-RADIUS=100;X-TI
 TLE=:geo:51.526025,-0.195653
ORGANIZER;CN="Westbourne Forum":MAILTO:westbourne-admin@westbourneforum.org.uk
END:VEVENT
BEGIN:VTIMEZONE
TZID:Europe/London
X-LIC-LOCATION:Europe/London
BEGIN:DAYLIGHT
DTSTART:20190331T020000
TZOFFSETFROM:+0000
TZOFFSETTO:+0100
TZNAME:BST
END:DAYLIGHT
END:VTIMEZONE
END:VCALENDAR