BEGIN:VCALENDAR
VERSION:2.0
PRODID:-//wp-events-plugin.com//7.2.3.1//EN
TZID:Europe/London
X-WR-TIMEZONE:Europe/London
BEGIN:VEVENT
UID:1-6046@westbourneforum.org.uk
DTSTART;TZID=Europe/London:20230625T130000
DTEND;TZID=Europe/London:20230625T170000
DTSTAMP:20230621T233630Z
URL:https://westbourneforum.org.uk/events/westbourne-summer-festival-2023/
SUMMARY:Westbourne Summer Festival 2023
DESCRIPTION:The Westbourne Forum Summer Festival will have Donkey Rides\, K
 ayaking\, a Live Stage with local young performers\, Bouncy Castles\, Skra
 tch 360 Video Booth\, Mr Magic Bubbles and more!\n\nBuy Caribbean and Vega
 n Food from Harrow Road Soup Kitchen.\n\nInformation and activities from l
 ocal services - Westbourne Forum\, Dr Bike\, Community Champions\, Westbou
 rne Park Family Centre\, Grand Junction\, WAES arts and crafts\, Future Me
 n\, Westminster Recycling\, Westminster Housing and Green Westbourne!\n\nE
 njoy a wonderful day out\, meet your neighbours and celebrate wonderful We
 stbourne with us!\n\n
ATTACH;FMTTYPE=image/jpeg:https://i0.wp.com/westbourneforum.org.uk/wp-cont
 ent/uploads/2023/05/Summer-festival-2023.webp?fit=800%2C445&ssl=1
LOCATION:The Canalside\, Warwick Estate\, Westminster\, London\, W2\, Engla
 nd\, United Kingdom
GEO:51.522673;-0.190812
X-APPLE-STRUCTURED-LOCATION;VALUE=URI;X-ADDRESS=Warwick Estate\, Westminste
 r\, London\, W2\, England\, United Kingdom;X-APPLE-RADIUS=100;X-TITLE=The 
 Canalside:geo:51.522673,-0.190812
ORGANIZER;CN="Westbourne Forum":MAILTO:westbourne-admin@westbourneforum.org.uk
END:VEVENT
BEGIN:VTIMEZONE
TZID:Europe/London
X-LIC-LOCATION:Europe/London
BEGIN:DAYLIGHT
DTSTART:20230326T020000
TZOFFSETFROM:+0000
TZOFFSETTO:+0100
TZNAME:BST
END:DAYLIGHT
END:VTIMEZONE
END:VCALENDAR