BEGIN:VCALENDAR
VERSION:2.0
PRODID:-//wp-events-plugin.com//7.2.3.1//EN
TZID:Europe/London
X-WR-TIMEZONE:Europe/London
BEGIN:VEVENT
UID:1-14711@westbourneforum.org.uk
DTSTART;TZID=Europe/London:20241114T110000
DTEND;TZID=Europe/London:20241114T140000
DTSTAMP:20241106T214906Z
URL:https://westbourneforum.org.uk/events/westbourne-opportunities-fair/
SUMMARY:Westbourne Opportunities Fair
DESCRIPTION:\n\nJoin us at our upcoming WESTBOURNE Opportunity Fair…\n\nA
 ccess Live Vacancies! Connect with with oprions that can change your futur
 e. &#x2728\;\n\nPhone | Email | Instagram | Facebook | X \n\n&nbsp\;\n\n
ATTACH;FMTTYPE=image/jpeg:https://i0.wp.com/westbourneforum.org.uk/wp-cont
 ent/uploads/2024/10/Westbourne-Opportunities-Fair-banner.webp?fit=1142%2C6
 35&ssl=1
LOCATION:The Stowe Centre\, 258 Harrow Road\, Westminster\, London\, W2 5ES
 \, England\, United Kingdom
GEO:51.520203;-0.190324
X-APPLE-STRUCTURED-LOCATION;VALUE=URI;X-ADDRESS=258 Harrow Road\, Westminst
 er\, London\, W2 5ES\, England\, United Kingdom;X-APPLE-RADIUS=100;X-TITLE
 =The Stowe Centre:geo:51.520203,-0.190324
ORGANIZER;CN="Westbourne Forum":MAILTO:westbourne-admin@westbourneforum.org.uk
END:VEVENT
BEGIN:VTIMEZONE
TZID:Europe/London
X-LIC-LOCATION:Europe/London
BEGIN:STANDARD
DTSTART:20241027T010000
TZOFFSETFROM:+0100
TZOFFSETTO:+0000
TZNAME:GMT
END:STANDARD
END:VTIMEZONE
END:VCALENDAR