BEGIN:VCALENDAR
VERSION:2.0
PRODID:-//wp-events-plugin.com//7.2.3.1//EN
TZID:Europe/London
X-WR-TIMEZONE:Europe/London
BEGIN:VEVENT
UID:1-68@westbourneforum.org.uk
DTSTART;TZID=Europe/London:20200125T130000
DTEND;TZID=Europe/London:20200125T160000
DTSTAMP:20200215T180933Z
URL:https://westbourneforum.org.uk/events/westbourne-global-food-festival-
 2/
SUMMARY:Westbourne Global Food Festival 2020
DESCRIPTION:&nbsp\;\n\nFood and entertainment from around the world to cele
 brate your community\n\nClick here for more info
ATTACH;FMTTYPE=image/jpeg:https://i0.wp.com/westbourneforum.org.uk/wp-cont
 ent/uploads/2020/01/GFF-2020-header-image.jpg?fit=800%2C445&ssl=1
LOCATION:Westbourne Park Family Centre\, Baptist Church\, Porchester Road\,
  Westminster\, London\, W2 5DX\, England\, United Kingdom
GEO:51.518597;-0.189192
X-APPLE-STRUCTURED-LOCATION;VALUE=URI;X-ADDRESS=Baptist Church\, Porchester
  Road\, Westminster\, London\, W2 5DX\, England\, United Kingdom;X-APPLE-R
 ADIUS=100;X-TITLE=Westbourne Park Family Centre:geo:51.518597,-0.189192
ORGANIZER;CN="Westbourne Forum":MAILTO:westbourne-admin@westbourneforum.org.uk
END:VEVENT
BEGIN:VTIMEZONE
TZID:Europe/London
X-LIC-LOCATION:Europe/London
BEGIN:STANDARD
DTSTART:20191027T010000
TZOFFSETFROM:+0100
TZOFFSETTO:+0000
TZNAME:GMT
END:STANDARD
END:VTIMEZONE
END:VCALENDAR