BEGIN:VCALENDAR
VERSION:2.0
PRODID:-//wp-events-plugin.com//7.2.3.1//EN
TZID:Europe/London
X-WR-TIMEZONE:Europe/London
BEGIN:VEVENT
UID:1-11950@westbourneforum.org.uk
DTSTART;TZID=Europe/London:20240612T160000
DTEND;TZID=Europe/London:20240612T173000
DTSTAMP:20240522T185034Z
URL:https://westbourneforum.org.uk/events/wednesday-club-2024-06-12/
SUMMARY:Wednesday Club
DESCRIPTION:\n\ndebbie.garden@okclub.org.uk\n\n074 5296 2069\n\n020 7625 25
 20\n\nwww.okclub.org.uk\n\n&nbsp\;\n\n
ATTACH;FMTTYPE=image/jpeg:https://i0.wp.com/westbourneforum.org.uk/wp-cont
 ent/uploads/2024/05/Wednesday-Club-banner.webp?fit=841%2C468&ssl=1
LOCATION:OK Club\, 45 Denmark Road\, London\, England\, NW6 5BP\, Brent\, U
 nited Kingdom
GEO:51.533235;-0.199642
X-APPLE-STRUCTURED-LOCATION;VALUE=URI;X-ADDRESS=45 Denmark Road\, London\, 
 England\, NW6 5BP\, Brent\, United Kingdom;X-APPLE-RADIUS=100;X-TITLE=OK C
 lub:geo:51.533235,-0.199642
ORGANIZER;CN="Westbourne Forum":MAILTO:westbourne-admin@westbourneforum.org.uk
END:VEVENT
BEGIN:VTIMEZONE
TZID:Europe/London
X-LIC-LOCATION:Europe/London
BEGIN:DAYLIGHT
DTSTART:20240331T020000
TZOFFSETFROM:+0000
TZOFFSETTO:+0100
TZNAME:BST
END:DAYLIGHT
END:VTIMEZONE
END:VCALENDAR