BEGIN:VCALENDAR
VERSION:2.0
PRODID:-//wp-events-plugin.com//7.2.3.1//EN
TZID:Europe/London
X-WR-TIMEZONE:Europe/London
BEGIN:VEVENT
UID:1-6821@westbourneforum.org.uk
DTSTART;TZID=Europe/London:20230823T080000
DTEND;TZID=Europe/London:20230823T150000
DTSTAMP:20230725T031741Z
URL:https://westbourneforum.org.uk/events/wcu-summer-holiday-camp-2023-08-
 23/
SUMMARY:WCU Summer Holiday Camp
DESCRIPTION:PLEASE NOTE: This project is part of the Holiday Activities &a
 mp\; Food ( HAF ) Programme\, for young people in Westminster who are elig
 ible for Free School Meals.*\n\nOur usual\, fun and friendly schedule of o
 utdoor and indoor visits in London\n\nNearest bus stop: 18\, 228\, 28\, 31
 \, 36\, 6\nNearest tube stop: Queens Park Westbourne Park\n\nContact email
 : swilson@queensparkschool.co.uk\nContact phone number: 07368 103 790\n\n*
 Cost for non-Free School Meals Children and Young People: Free but £10 we
 ekly donation\n\nBooking required - Please wait for confirmation as demand
  is very high\n\nwww.westminsterchildrensuniversity.co.uk
ATTACH;FMTTYPE=image/jpeg:https://i0.wp.com/westbourneforum.org.uk/wp-cont
 ent/uploads/2023/07/Westminster-Childrens-Uni-header.webp?fit=800%2C445&ss
 l=1
LOCATION:Dorothy Gardner Centre\, 293 Shirland Road\, Queen's Park\, Engla
 nd\, W9 3JY\, Westminster\, United Kingdom
GEO:51.528898;-0.201796
X-APPLE-STRUCTURED-LOCATION;VALUE=URI;X-ADDRESS=293 Shirland Road\, Queen'
 s Park\, England\, W9 3JY\, Westminster\, United Kingdom;X-APPLE-RADIUS=10
 0;X-TITLE=Dorothy Gardner Centre:geo:51.528898,-0.201796
ORGANIZER;CN="Westbourne Forum":MAILTO:westbourne-admin@westbourneforum.org.uk
END:VEVENT
BEGIN:VTIMEZONE
TZID:Europe/London
X-LIC-LOCATION:Europe/London
BEGIN:DAYLIGHT
DTSTART:20230326T020000
TZOFFSETFROM:+0000
TZOFFSETTO:+0100
TZNAME:BST
END:DAYLIGHT
END:VTIMEZONE
END:VCALENDAR