BEGIN:VCALENDAR
VERSION:2.0
PRODID:-//wp-events-plugin.com//7.2.3.1//EN
TZID:Europe/London
X-WR-TIMEZONE:Europe/London
BEGIN:VEVENT
UID:1-9808@westbourneforum.org.uk
DTSTART;TZID=Europe/London:20240119T150000
DTEND;TZID=Europe/London:20240119T180000
DTSTAMP:20240115T033446Z
URL:https://westbourneforum.org.uk/events/w9-wildcats-youth-club-2-2024-01
 -19/
SUMMARY:W9 Wildcats Youth Club
DESCRIPTION:\n\nBooking Form
ATTACH;FMTTYPE=image/jpeg:https://i0.wp.com/westbourneforum.org.uk/wp-cont
 ent/uploads/2023/09/W9-Wildcats-banner.webp?fit=2048%2C1139&ssl=1
LOCATION:Lydford Community Hall\, 74 Fernhead Road\, London\, England\, W9 
 3EY\, United Kingdom
GEO:51.52842;-0.201644
X-APPLE-STRUCTURED-LOCATION;VALUE=URI;X-ADDRESS=74 Fernhead Road\, London\,
  England\, W9 3EY\, United Kingdom;X-APPLE-RADIUS=100;X-TITLE=Lydford Comm
 unity Hall:geo:51.52842,-0.201644
ORGANIZER;CN="Westbourne Forum":MAILTO:westbourne-admin@westbourneforum.org.uk
END:VEVENT
BEGIN:VTIMEZONE
TZID:Europe/London
X-LIC-LOCATION:Europe/London
BEGIN:STANDARD
DTSTART:20231029T010000
TZOFFSETFROM:+0100
TZOFFSETTO:+0000
TZNAME:GMT
END:STANDARD
END:VTIMEZONE
END:VCALENDAR