BEGIN:VCALENDAR
VERSION:2.0
PRODID:-//wp-events-plugin.com//7.2.3.1//EN
TZID:Europe/London
X-WR-TIMEZONE:Europe/London
BEGIN:VEVENT
UID:1-20997@westbourneforum.org.uk
DTSTART;TZID=Europe/London:20260410T100000
DTEND;TZID=Europe/London:20260410T140000
DTSTAMP:20260312T221410Z
URL:https://westbourneforum.org.uk/events/usdd-kids-easter-dance-workshops
 -2026-04-10/
SUMMARY:USDD Kids Easter Dance Workshops
DESCRIPTION:This Easter USDD Networks is offering dance workshops for kids 
 aged 7 to 15 years old. Join us today!\n\nProviding the best quality stree
 t dance in the UK with a French touch!\n\nWe teach all our students how to
  become dancers\, dance teachers\, and choreographers!\n\nOur teachers spe
 cialise in all street dance styles from Hip Hop\, Popping\, Locking\, Hous
 e\, Breakdancing\, Lite feet\, Commercial\, and Afro dances to name a few.
 ..\n\nChildren and young people will explore all the different street danc
 e styles. The top dancers/teachers from USDD Networks will come to give wo
 rkshops each day in a different style. Participants will have the ability 
 to meet professional dancers and ask them questions throughout the day.\n\
 nOutcomes:\nConfidence building\nSocial and interpersonal skills\nTeam bui
 lding\n\nCoaches: Lexi Maize / Amaya / Beth/\n(All our coaches are DBS che
 cked)\n\nAge Category: Kids: 7 to 11 years - Teens: 12 to 15 years\nGender
 : Mixed\nClothes : Comfortable\, jogger\, tracksuit\, leggings\nNo shorts\
 nBring water\n\nParticipants arrival : 9.50 am\nThe workshop will start at
  10 am and finish at 2.00 pm each day\n\nPLEASE BRING PACKED LUNCHES\nWe a
 lso advise parents to bring snacks for their children just in case they do
  not fancy the food.\n\nCurrently\, all our venues have been tailored to b
 e COVID compliant and will take place in a safe environment.\n\nCost: FREE
  for FSM-eligible families ( Free School Meals )\nLIMITED SPACES AVAILABLE
 ! SIGN UP NOW!\nBook your space today to secure your space\, for more info
  contact 07513 192 618 or email info@usddacademy.co.uk\n\nJoin our communi
 ty\, register on our website here: usddacademy.co.uk\n\nWe hope to see yo
 u soon :)\n\nFurther details\n
ATTACH;FMTTYPE=image/jpeg:https://i0.wp.com/westbourneforum.org.uk/wp-cont
 ent/uploads/2024/05/USDD-Kids-Easter-Dance-Workshops-banner.webp?fit=1280%
 2C712&ssl=1
LOCATION:Queen's Park Court Community Hall\, Droop St\, Queen's Park\, Engl
 and\, W10 4QA\, Westminster\, United Kingdom
GEO:51.528929;-0.213853
X-APPLE-STRUCTURED-LOCATION;VALUE=URI;X-ADDRESS=Droop St\, Queen's Park\, E
 ngland\, W10 4QA\, Westminster\, United Kingdom;X-APPLE-RADIUS=100;X-TITLE
 =Queen's Park Court Community Hall:geo:51.528929,-0.213853
ORGANIZER;CN="Westbourne Forum":MAILTO:westbourne-admin@westbourneforum.org.uk
END:VEVENT
BEGIN:VTIMEZONE
TZID:Europe/London
X-LIC-LOCATION:Europe/London
BEGIN:DAYLIGHT
DTSTART:20260329T020000
TZOFFSETFROM:+0000
TZOFFSETTO:+0100
TZNAME:BST
END:DAYLIGHT
END:VTIMEZONE
END:VCALENDAR