BEGIN:VCALENDAR
VERSION:2.0
PRODID:-//wp-events-plugin.com//7.2.3.1//EN
TZID:Europe/London
X-WR-TIMEZONE:Europe/London
BEGIN:VEVENT
UID:1-10051@westbourneforum.org.uk
DTSTART;TZID=Europe/London:20240214T123000
DTEND;TZID=Europe/London:20240214T173000
DTSTAMP:20240201T210350Z
URL:https://westbourneforum.org.uk/events/u17-ball-and-eat-february-half-t
 erm-basketball-camp-2024-2024-02-14/
SUMMARY:U17 Ball and Eat - February Half Term Basketball Camp 2024
DESCRIPTION:Basketball camp at St Augustine’s Sports Centre which will he
 lp you improve your basketball skills with the help of our expert coaches.
  Participants will be provided with a healthy meal and receive nutritional
  education/advice to help them eat healthier at home.\n\nDetails of free m
 eal provided: Sandwich\, Fruit/Oat Bar &amp\; Drink.\n\nNearest bus stop: 
 Carlton Vale (bus stop MB)\nNearest tube stop: Kilburn Park Underground St
 ation\n\nAges 11 - 16\n\nContact email: info@thelba.co.uk\nContact phone n
 umber: 020 3778 0075\n\n*Cost for non-Free School Meals Children and Young
  People:\nRegular: £31.57 (Day Ticket)\, £92.79 (Week Ticket)\nConcessio
 n: £17.33 (Day Ticket)\, £50.30 (Week Ticket)\n\nBooking required
ATTACH;FMTTYPE=image/jpeg:https://i0.wp.com/westbourneforum.org.uk/wp-cont
 ent/uploads/2024/02/February-Half-Term-Basketball-Camp-2024-banner.webp?fi
 t=1076%2C599&ssl=1
LOCATION:St Augustine’s Sports Centre\, Oxford Rd\, London\, England\, NW
 6 5AW\, United Kingdom
GEO:51.533636;-0.193294
X-APPLE-STRUCTURED-LOCATION;VALUE=URI;X-ADDRESS=Oxford Rd\, London\, Englan
 d\, NW6 5AW\, United Kingdom;X-APPLE-RADIUS=100;X-TITLE=St Augustine’s S
 ports Centre:geo:51.533636,-0.193294
ORGANIZER;CN="Westbourne Forum":MAILTO:westbourne-admin@westbourneforum.org.uk
END:VEVENT
BEGIN:VTIMEZONE
TZID:Europe/London
X-LIC-LOCATION:Europe/London
BEGIN:STANDARD
DTSTART:20231029T010000
TZOFFSETFROM:+0100
TZOFFSETTO:+0000
TZNAME:GMT
END:STANDARD
END:VTIMEZONE
END:VCALENDAR