BEGIN:VCALENDAR
VERSION:2.0
PRODID:-//wp-events-plugin.com//7.2.3.1//EN
TZID:Europe/London
X-WR-TIMEZONE:Europe/London
BEGIN:VEVENT
UID:1-11958@westbourneforum.org.uk
DTSTART;TZID=Europe/London:20240602T140000
DTEND;TZID=Europe/London:20240602T153000
DTSTAMP:20240522T191302Z
URL:https://westbourneforum.org.uk/events/try-kayaking-canoeing-for-free-2
 024-06-02/
SUMMARY:Try Kayaking & Canoeing For Free!
DESCRIPTION:\n\ninfo@thepiratecastle.org\n\n&nbsp\;\n\n&nbsp\;\n\n
ATTACH;FMTTYPE=image/jpeg:https://i0.wp.com/westbourneforum.org.uk/wp-cont
 ent/uploads/2024/05/Kayaking-and-Canoeing-at-The-Pirate-Castle-banner.webp
 ?fit=1046%2C582&ssl=1
LOCATION:The Pirate Castle\, Gilbey's Wharf\, London\, England\, NW1 7EA\, 
 Camden\, United Kingdom
GEO:51.54032;-0.148377
X-APPLE-STRUCTURED-LOCATION;VALUE=URI;X-ADDRESS=Gilbey's Wharf\, London\, E
 ngland\, NW1 7EA\, Camden\, United Kingdom;X-APPLE-RADIUS=100;X-TITLE=The 
 Pirate Castle:geo:51.54032,-0.148377
ORGANIZER;CN="Westbourne Forum":MAILTO:westbourne-admin@westbourneforum.org.uk
END:VEVENT
BEGIN:VTIMEZONE
TZID:Europe/London
X-LIC-LOCATION:Europe/London
BEGIN:DAYLIGHT
DTSTART:20240331T020000
TZOFFSETFROM:+0000
TZOFFSETTO:+0100
TZNAME:BST
END:DAYLIGHT
END:VTIMEZONE
END:VCALENDAR