BEGIN:VCALENDAR
VERSION:2.0
PRODID:-//wp-events-plugin.com//7.2.3.1//EN
TZID:Europe/London
X-WR-TIMEZONE:Europe/London
BEGIN:VEVENT
UID:1-13626@westbourneforum.org.uk
DTSTART;TZID=Europe/London:20240923T113000
DTEND;TZID=Europe/London:20240923T123000
DTSTAMP:20260125T223610Z
URL:https://westbourneforum.org.uk/events/through-the-elements-2024-09-23/
SUMMARY:Through the Elements
DESCRIPTION:\n\nWild Little Theatre presents Through the Elements\n\nFree 4
 -week programme of interactive shows\n\nFor 0 - 5 years\n\nBooking and fur
 ther details\n\n&nbsp\;\n\n
ATTACH;FMTTYPE=image/jpeg:https://i0.wp.com/westbourneforum.org.uk/wp-cont
 ent/uploads/2024/09/Through-the-elements-banner.webp?fit=1025%2C570&ssl=1
LOCATION:Mayfair Library\, 25 South Audley Street\, London\, England\, W1K 
 2PB\, Westminster\, United Kingdom
GEO:51.50937;-0.151148
X-APPLE-STRUCTURED-LOCATION;VALUE=URI;X-ADDRESS=25 South Audley Street\, Lo
 ndon\, England\, W1K 2PB\, Westminster\, United Kingdom;X-APPLE-RADIUS=100
 ;X-TITLE=Mayfair Library:geo:51.50937,-0.151148
ORGANIZER;CN="Westbourne Forum":MAILTO:westbourne-admin@westbourneforum.org.uk
END:VEVENT
BEGIN:VTIMEZONE
TZID:Europe/London
X-LIC-LOCATION:Europe/London
BEGIN:DAYLIGHT
DTSTART:20240331T020000
TZOFFSETFROM:+0000
TZOFFSETTO:+0100
TZNAME:BST
END:DAYLIGHT
END:VTIMEZONE
END:VCALENDAR