BEGIN:VCALENDAR
VERSION:2.0
PRODID:-//wp-events-plugin.com//7.2.3.1//EN
TZID:Europe/London
X-WR-TIMEZONE:Europe/London
BEGIN:VEVENT
UID:1-14853@westbourneforum.org.uk
DTSTART;TZID=Europe/London:20241125T100000
DTEND;TZID=Europe/London:20241125T120000
DTSTAMP:20241120T003429Z
URL:https://westbourneforum.org.uk/events/the-mosaic-community-trust-one-s
 top-service-2024-11-25/
SUMMARY:The Mosaic Community Trust - One Stop Service
DESCRIPTION:\n\nWebsite\n\n07789 914 345\n\n07462 561 885\n\n&nbsp\;\n\n
ATTACH;FMTTYPE=image/jpeg:https://i0.wp.com/westbourneforum.org.uk/wp-cont
 ent/uploads/2024/11/mosaic-community-trust-one-stop-service-banner.webp?fi
 t=1079%2C600&ssl=1
LOCATION:Mosaic Community Trust One Stop Service\, 66 Church Street\, Londo
 n\, England\, NW8 8ET\, Westminster\, United Kingdom
GEO:51.523339;-0.17085
X-APPLE-STRUCTURED-LOCATION;VALUE=URI;X-ADDRESS=66 Church Street\, London\,
  England\, NW8 8ET\, Westminster\, United Kingdom;X-APPLE-RADIUS=100;X-TIT
 LE=Mosaic Community Trust One Stop Service:geo:51.523339,-0.17085
ORGANIZER;CN="Westbourne Forum":MAILTO:westbourne-admin@westbourneforum.org.uk
END:VEVENT
BEGIN:VTIMEZONE
TZID:Europe/London
X-LIC-LOCATION:Europe/London
BEGIN:STANDARD
DTSTART:20241027T010000
TZOFFSETFROM:+0100
TZOFFSETTO:+0000
TZNAME:GMT
END:STANDARD
END:VTIMEZONE
END:VCALENDAR