BEGIN:VCALENDAR
VERSION:2.0
PRODID:-//wp-events-plugin.com//7.2.3.1//EN
TZID:Europe/London
X-WR-TIMEZONE:Europe/London
BEGIN:VEVENT
UID:1-17641@westbourneforum.org.uk
DTSTART;TZID=Europe/London:20250608T120000
DTEND;TZID=Europe/London:20250608T180000
DTSTAMP:20250603T034953Z
URL:https://westbourneforum.org.uk/events/the-great-exhibition-road-festiv
 al-2025-2025-06-08/
SUMMARY:The Great Exhibition Road Festival 2025
DESCRIPTION:\n\nExplore the extraordinary at the Great Exhibition Road Fest
 ival!\n\nDiscover a selection of events for you to take part in at the Fes
 tival weekend on 7 - 8 June 2025.\n\nEnter the times of your visit in the 
 filters to see what's on then\, and click on the hearts to create your own
  list of favourites.\n\nBooking and further info
ATTACH;FMTTYPE=image/jpeg:https://i0.wp.com/westbourneforum.org.uk/wp-cont
 ent/uploads/2025/06/The-Great-Exhibition-Road-Festival-banner-2.webp?fit=8
 00%2C445&ssl=1
LOCATION:The Great Exhibition Road Festival\, Exhibition Road\, London\, En
 gland\, SW7 2AZ\, Westminster\, United Kingdom
GEO:51.498141;-0.174082
X-APPLE-STRUCTURED-LOCATION;VALUE=URI;X-ADDRESS=Exhibition Road\, London\, 
 England\, SW7 2AZ\, Westminster\, United Kingdom;X-APPLE-RADIUS=100;X-TITL
 E=The Great Exhibition Road Festival:geo:51.498141,-0.174082
ORGANIZER;CN="Westbourne Forum":MAILTO:westbourne-admin@westbourneforum.org.uk
END:VEVENT
BEGIN:VTIMEZONE
TZID:Europe/London
X-LIC-LOCATION:Europe/London
BEGIN:DAYLIGHT
DTSTART:20250330T020000
TZOFFSETFROM:+0000
TZOFFSETTO:+0100
TZNAME:BST
END:DAYLIGHT
END:VTIMEZONE
END:VCALENDAR