BEGIN:VCALENDAR
VERSION:2.0
PRODID:-//wp-events-plugin.com//7.2.3.1//EN
TZID:Europe/London
X-WR-TIMEZONE:Europe/London
BEGIN:VEVENT
UID:1-11239@westbourneforum.org.uk
DTSTART;TZID=Europe/London:20240418T200000
DTEND;TZID=Europe/London:20240418T223000
DTSTAMP:20240416T212030Z
URL:https://westbourneforum.org.uk/events/the-ayoub-sisters-elixir-festiva
 l-2024/
SUMMARY:The Ayoub Sisters – Elixir Festival 2024
DESCRIPTION:A VERY SPECIAL EVENING FROM THE AWARD-WINNING SISTER DUO AS THE
 Y PERFORM SONGS FROM THEIR CRITICALLY ACCLAIMED ALBUM\, ARABESQUE – A CE
 LEBRATION AND TRIBUTE TO MUSIC FROM THE ARAB WORLD\n\nThe Scottish/Egyptia
 n duo – Sarah and Laura Ayoub – present an unmissable evening of maste
 rful violin and cello playing. Combining classical string traditions with 
 world music infused by Arabic and Celtic influence\, the sisters are inter
 nationally recognised for uniting diverse musical genres and cultures thro
 ugh their unique compositional style.\n\nFast becoming the sound and faces
  of a truly exciting new generation of classical and crossover artists\, t
 he duo have performed across the UK\, Europe\, the Middle East\, and Asia\
 , with highlights including appearances at the Royal Albert Hall\, London 
 Palladium\, The Cairo Opera House\, and Dubai Opera.\n\nThe sisters will b
 e joined for the evening by renowned Jazz musicians\, guitarist Giulio Rom
 ano Malaisi and percussionist Daniele Antenucci.\n\nThe evening is present
 ed by Grand Junction in association with Arts Canteen as part of Elixir Fe
 stival 2024.\n\nBooking and further details
ATTACH;FMTTYPE=image/jpeg:https://i0.wp.com/westbourneforum.org.uk/wp-cont
 ent/uploads/2024/04/Ayoub-Sisters-banner.webp?fit=800%2C445&ssl=1
LOCATION:Grand Junction\, St Mary Magdalene Church\, Rowington Close\, West
 minster\, London\, W2 5TF\, England\, United Kingdom
GEO:51.5224;-0.188497
X-APPLE-STRUCTURED-LOCATION;VALUE=URI;X-ADDRESS=St Mary Magdalene Church\, 
 Rowington Close\, Westminster\, London\, W2 5TF\, England\, United Kingdom
 ;X-APPLE-RADIUS=100;X-TITLE=Grand Junction:geo:51.5224,-0.188497
ORGANIZER;CN="Westbourne Forum":MAILTO:westbourne-admin@westbourneforum.org.uk
END:VEVENT
BEGIN:VTIMEZONE
TZID:Europe/London
X-LIC-LOCATION:Europe/London
BEGIN:DAYLIGHT
DTSTART:20240331T020000
TZOFFSETFROM:+0000
TZOFFSETTO:+0100
TZNAME:BST
END:DAYLIGHT
END:VTIMEZONE
END:VCALENDAR