BEGIN:VCALENDAR
VERSION:2.0
PRODID:-//wp-events-plugin.com//7.2.3.1//EN
TZID:Europe/London
X-WR-TIMEZONE:Europe/London
BEGIN:VEVENT
UID:1-5620@westbourneforum.org.uk
DTSTART;TZID=Europe/London:20230617T120000
DTEND;TZID=Europe/London:20230617T160000
DTSTAMP:20230228T211721Z
URL:https://westbourneforum.org.uk/events/the-avenues-seniors-sporty-satur
 day-2023-06-17/
SUMMARY:The Avenues Seniors - Sporty Saturday
DESCRIPTION:
ATTACH;FMTTYPE=image/jpeg:https://i0.wp.com/westbourneforum.org.uk/wp-cont
 ent/uploads/2023/02/The-Avenues-Seniors-Sporty-Saturday-header.webp?fit=12
 33%2C686&ssl=1
LOCATION:The Avenues Youth Project\, 3 - 7 Third Avenue\, Queen's Park\, En
 gland\, W10 4RS\, Westminster\, United Kingdom
GEO:51.527092;-0.207978
X-APPLE-STRUCTURED-LOCATION;VALUE=URI;X-ADDRESS=3 - 7 Third Avenue\, Queen'
 s Park\, England\, W10 4RS\, Westminster\, United Kingdom;X-APPLE-RADIUS=1
 00;X-TITLE=The Avenues Youth Project:geo:51.527092,-0.207978
ORGANIZER;CN="Westbourne Forum":MAILTO:westbourne-admin@westbourneforum.org.uk
END:VEVENT
BEGIN:VTIMEZONE
TZID:Europe/London
X-LIC-LOCATION:Europe/London
BEGIN:DAYLIGHT
DTSTART:20230326T020000
TZOFFSETFROM:+0000
TZOFFSETTO:+0100
TZNAME:BST
END:DAYLIGHT
END:VTIMEZONE
END:VCALENDAR