BEGIN:VCALENDAR
VERSION:2.0
PRODID:-//wp-events-plugin.com//7.2.3.1//EN
TZID:Europe/London
X-WR-TIMEZONE:Europe/London
BEGIN:VEVENT
UID:1-11827@westbourneforum.org.uk
DTSTART;TZID=Europe/London:20240531T183000
DTEND;TZID=Europe/London:20240531T203000
DTSTAMP:20240514T005918Z
URL:https://westbourneforum.org.uk/events/table-tennis-for-young-people-an
 d-students-with-sport4health-2024-05-31/
SUMMARY:Table Tennis For Young People and Students with Sport4health
DESCRIPTION:Take a break from the stresses of your studies - come out and m
 eet other students!\n\nPlease contact us at info@sport4health.co.uk for mo
 re details on entry into the venue as well as specific location of the tab
 le tennis sessions.\n\nBook your place\n\nsport4health.co.uk
ATTACH;FMTTYPE=image/jpeg:https://i0.wp.com/westbourneforum.org.uk/wp-cont
 ent/uploads/2024/05/Table-Tennis-For-Young-People-and-Students-banner.webp
 ?fit=800%2C445&ssl=1
LOCATION:St. Gabriel’s Parish House\, Glasgow Terrace\, London\, England\
 , SW1V 3AA\, Westminster\, United Kingdom
GEO:51.48634;-0.142573
X-APPLE-STRUCTURED-LOCATION;VALUE=URI;X-ADDRESS=Glasgow Terrace\, London\, 
 England\, SW1V 3AA\, Westminster\, United Kingdom;X-APPLE-RADIUS=100;X-TIT
 LE=St. Gabriel’s Parish House:geo:51.48634,-0.142573
ORGANIZER;CN="Westbourne Forum":MAILTO:westbourne-admin@westbourneforum.org.uk
END:VEVENT
BEGIN:VTIMEZONE
TZID:Europe/London
X-LIC-LOCATION:Europe/London
BEGIN:DAYLIGHT
DTSTART:20240331T020000
TZOFFSETFROM:+0000
TZOFFSETTO:+0100
TZNAME:BST
END:DAYLIGHT
END:VTIMEZONE
END:VCALENDAR