BEGIN:VCALENDAR
VERSION:2.0
PRODID:-//wp-events-plugin.com//7.2.3.1//EN
TZID:Europe/London
X-WR-TIMEZONE:Europe/London
BEGIN:VEVENT
UID:1-10575@westbourneforum.org.uk
DTSTART;TZID=Europe/London:20240405T190000
DTEND;TZID=Europe/London:20240405T230000
DTSTAMP:20240404T005232Z
URL:https://westbourneforum.org.uk/events/swing-and-dine-2-2024-04-05/
SUMMARY:Swing and Dine
DESCRIPTION:\n\nVeteran selector and producer Nick Manasseh will be joining
  residents David Hill\, Smokey Joe\, and Likkle Minty for Swing &amp\; Din
 e on Friday 1st March.\n\nSounds will travel from Ska to Rocksteady\, Boss
  into Reggae and Roots\, with a touch of Soul here and there.\n\nAs usual\
 , entry is free and we run 7 - 11 pm\, with top-drawer Caribbean food serv
 ed until 9.30 pm.\n\nSwing &amp\; Dine is the first Friday of every month 
 at The Tabernacle\, Powis Square\, W11.\n\n020 7221 9700\n\n
ATTACH;FMTTYPE=image/jpeg:https://i0.wp.com/westbourneforum.org.uk/wp-cont
 ent/uploads/2024/02/swing-and-dine-banner-4.webp?fit=880%2C490&ssl=1
LOCATION:The Tabernacle\, 34 - 35 Powis Square\, London\, England\, W11 2AY
 \, United Kingdom
GEO:51.516701;-0.20157
X-APPLE-STRUCTURED-LOCATION;VALUE=URI;X-ADDRESS=34 - 35 Powis Square\, Lond
 on\, England\, W11 2AY\, United Kingdom;X-APPLE-RADIUS=100;X-TITLE=The Tab
 ernacle:geo:51.516701,-0.20157
ORGANIZER;CN="Westbourne Forum":MAILTO:westbourne-admin@westbourneforum.org.uk
END:VEVENT
BEGIN:VTIMEZONE
TZID:Europe/London
X-LIC-LOCATION:Europe/London
BEGIN:DAYLIGHT
DTSTART:20240331T020000
TZOFFSETFROM:+0000
TZOFFSETTO:+0100
TZNAME:BST
END:DAYLIGHT
END:VTIMEZONE
END:VCALENDAR