BEGIN:VCALENDAR
VERSION:2.0
PRODID:-//wp-events-plugin.com//7.2.3.1//EN
TZID:Europe/London
X-WR-TIMEZONE:Europe/London
BEGIN:VEVENT
UID:1-6207@westbourneforum.org.uk
DTSTART;TZID=Europe/London:20230814T100000
DTEND;TZID=Europe/London:20230814T160000
DTSTAMP:20230712T024011Z
URL:https://westbourneforum.org.uk/events/summer-play-at-adventure-play-hu
 b-2023-08-14/
SUMMARY:Summer Play at Adventure Play Hub
DESCRIPTION:PLEASE NOTE: This project is part of the Holiday Activities &am
 p\; Food (HAF) Programme\, for young people in Westminster who are eligibl
 e for Free School Meals.*\n\nChildren can make friends\, get messy and hav
 e a fun-filled summer holiday packed with fantastic play activities.\nComm
 unity adventure play summer provision for children aged 5 – 12 years. Ac
 tivities will include art\, crafts\, games\, sports\, gardening and a mini
  carnival celebration.\n\nOfsted registered and staffed by an experienced 
 team.\n\nChildren with disabilities\, additional needs\, ASD\, SEND\, SEMH
  are very welcome. Please make contact in advance if you require additiona
 l support so it can be organised.\n\nDetails of free meal provided: Breakf
 ast at 10am\; lunch at 12.30pm and tea at 3.30pm – all healthy and free\
 n\nNearest bus stop: St. John’s Wood\nNearest tube stop: St. John’s Wo
 od\n\nContact email: hello@adventureplayhub.org\nContact phone number: 020
  7586 1884\nwww.adventureplayhub.org/\n\n*Cost for non-Free School Meals C
 hildren and Young People: Means-tested. Free spaces available for families
  experiencing financial hardship and do not meet criteria for Free School 
 Meals\, please make contact to arrange your place.\n\nBooking required –
  you are advised to book early as we get booked up very quickly\n\n&nbsp\;
ATTACH;FMTTYPE=image/jpeg:https://i0.wp.com/westbourneforum.org.uk/wp-cont
 ent/uploads/2023/07/Adventure-Play-Hub-header.webp?fit=800%2C445&ssl=1
LOCATION:Adventure Play Hub\, St. John’s Wood Terrace\, London\, England\
 , NW8 6LP\, Westminster\, United Kingdom
GEO:51.535368;-0.167804
X-APPLE-STRUCTURED-LOCATION;VALUE=URI;X-ADDRESS=St. John’s Wood Terrace\,
  London\, England\, NW8 6LP\, Westminster\, United Kingdom;X-APPLE-RADIUS=
 100;X-TITLE=Adventure Play Hub:geo:51.535368,-0.167804
ORGANIZER;CN="Westbourne Forum":MAILTO:westbourne-admin@westbourneforum.org.uk
END:VEVENT
BEGIN:VTIMEZONE
TZID:Europe/London
X-LIC-LOCATION:Europe/London
BEGIN:DAYLIGHT
DTSTART:20230326T020000
TZOFFSETFROM:+0000
TZOFFSETTO:+0100
TZNAME:BST
END:DAYLIGHT
END:VTIMEZONE
END:VCALENDAR