BEGIN:VCALENDAR
VERSION:2.0
PRODID:-//wp-events-plugin.com//7.2.3.1//EN
TZID:Europe/London
X-WR-TIMEZONE:Europe/London
BEGIN:VEVENT
UID:1-12258@westbourneforum.org.uk
DTSTART;TZID=Europe/London:20240730T103000
DTEND;TZID=Europe/London:20240730T163000
DTSTAMP:20240709T004308Z
URL:https://westbourneforum.org.uk/events/summer-holidays-2024-at-horniman
 s-adventure-playground-2024-07-30/
SUMMARY:Summer Holidays 2024 at Hornimans Adventure Playground
DESCRIPTION:PLEASE NOTE: This project is part of the Holiday Activities &a
 mp\; Food (HAF) Programme\, for young people in Westminster and Kensington
  &amp\; Chelsea who are eligible for benefits-related Free School Meals*\
 n\nHornimans is open during the Summer Holidays 10.30am - 4.30pm with a fu
 n-packed play programme!\n\nCome along and join in the summer activities t
 hat will include sports\, games\, adventure play\, cooking\, barbecue\, go
 ats and much more!\n\nLunch will be provided daily at 1pm and snacks will 
 be provided during the morning and afternoon.\n\nPlease note that all chil
 dren must be registered and children under 8 years are not allowed to leav
 e without an appropriate adult\, those over 8 years must have parental per
 mission to leave by themselves.\n\nWe have some support available for chil
 dren with &#x1f33b\;SEND&#x1f33b\;. Please speak to staff.\n\nNo need to b
 ook.\n\nFurther Details
ATTACH;FMTTYPE=image/jpeg:https://i0.wp.com/westbourneforum.org.uk/wp-cont
 ent/uploads/2024/07/Summer-Holidays-2024-at-Hornimans-Adventure-Playground
 -banner.webp?fit=800%2C445&ssl=1
LOCATION:Hornimans Adventure Playground\, Southern Row\, London\, England\,
  W10 5AN\, Kensington and Chelsea\, United Kingdom
GEO:51.525233;-0.209218
X-APPLE-STRUCTURED-LOCATION;VALUE=URI;X-ADDRESS=Southern Row\, London\, Eng
 land\, W10 5AN\, Kensington and Chelsea\, United Kingdom;X-APPLE-RADIUS=10
 0;X-TITLE=Hornimans Adventure Playground:geo:51.525233,-0.209218
ORGANIZER;CN="Westbourne Forum":MAILTO:westbourne-admin@westbourneforum.org.uk
END:VEVENT
BEGIN:VTIMEZONE
TZID:Europe/London
X-LIC-LOCATION:Europe/London
BEGIN:DAYLIGHT
DTSTART:20240331T020000
TZOFFSETFROM:+0000
TZOFFSETTO:+0100
TZNAME:BST
END:DAYLIGHT
END:VTIMEZONE
END:VCALENDAR