BEGIN:VCALENDAR
VERSION:2.0
PRODID:-//wp-events-plugin.com//7.2.3.1//EN
TZID:Europe/London
X-WR-TIMEZONE:Europe/London
BEGIN:VEVENT
UID:1-12428@westbourneforum.org.uk
DTSTART;TZID=Europe/London:20240815T100000
DTEND;TZID=Europe/London:20240815T160000
DTSTAMP:20240709T182637Z
URL:https://westbourneforum.org.uk/events/summer-holidays-2024-2024-08-15/
SUMMARY:Summer Holidays 2024
DESCRIPTION:Summer at The Avenues 2024\n\nActivities take place in our purp
 ose-built youth facility in North Westminster. Children aged 8 – 18 are 
 grouped by age and choose stimulating\, fun activities that interest them\
 , including sports and games\, music\, cooking skills\, art and design\, d
 ance and more.\n\nSessions are led by our team of trained youth workers\, 
 who provide support and guidance to the children\, working to build their 
 confidence and encourage them to develop new skills. Staff-to-child ratios
  are usually 1:8.\n\nDetails of free meal provided: Meals will be prepare
 d in our recently renovated kitchen with approximately 1000 nutritious mea
 ls being provided a week. These include a healthy breakfast bar\, and dail
 y hot meals – typically stir-fries\, homemade spaghetti Bolognese\, oven
 -baked chicken and rice and oven-baked fish bites and skin-on chips.\n\nNe
 arest bus stop: Harrow Road (52\, 28\, 316\, 18)\nNearest tube stop: Wes
 tbourne Park or Queen’s Park\n\nContact email: hello@avenues.org.uk\nCo
 ntact phone number: 020 8969 9552\n\nBooking required. See the full Summ
 er at The Avenues programme of activities here
ATTACH;FMTTYPE=image/jpeg:https://i0.wp.com/westbourneforum.org.uk/wp-cont
 ent/uploads/2024/07/Summer-Holidays-At-The-Avenues-Youth-Project-banner.we
 bp?fit=800%2C445&ssl=1
LOCATION:The Avenues Youth Project\, 3 - 7 Third Avenue\, Queen's Park\, En
 gland\, W10 4RS\, Westminster\, United Kingdom
GEO:51.527092;-0.207978
X-APPLE-STRUCTURED-LOCATION;VALUE=URI;X-ADDRESS=3 - 7 Third Avenue\, Queen'
 s Park\, England\, W10 4RS\, Westminster\, United Kingdom;X-APPLE-RADIUS=1
 00;X-TITLE=The Avenues Youth Project:geo:51.527092,-0.207978
ORGANIZER;CN="Westbourne Forum":MAILTO:westbourne-admin@westbourneforum.org.uk
END:VEVENT
BEGIN:VTIMEZONE
TZID:Europe/London
X-LIC-LOCATION:Europe/London
BEGIN:DAYLIGHT
DTSTART:20240331T020000
TZOFFSETFROM:+0000
TZOFFSETTO:+0100
TZNAME:BST
END:DAYLIGHT
END:VTIMEZONE
END:VCALENDAR