BEGIN:VCALENDAR
VERSION:2.0
PRODID:-//wp-events-plugin.com//7.2.3.1//EN
TZID:Europe/London
X-WR-TIMEZONE:Europe/London
BEGIN:VEVENT
UID:1-12313@westbourneforum.org.uk
DTSTART;TZID=Europe/London:20240823T100000
DTEND;TZID=Europe/London:20240823T160000
DTSTAMP:20240709T010405Z
URL:https://westbourneforum.org.uk/events/summer-holiday-play-provision-20
 24-2024-08-23/
SUMMARY:Summer Holiday Play Provision 2024
DESCRIPTION:PLEASE NOTE: This project is part of the Holiday Activities &a
 mp\; Food (HAF) Programme\, for young people in Westminster who are eligib
 le for Free School Meals.*\n\nChildren can make friends\, get messy and ha
 ve a fun-filled summer holiday packed with fantastic play activities.\n\nC
 ommunity adventure play summer provision for children aged 5 – 12 years.
  Activities will include art\, crafts\, games\, sports\, gardening and a m
 ini carnival celebration.\n\nOfsted registered and staffed by an experienc
 ed team.\n\nChildren with disabilities\, additional needs\, ASD\, SEND\, S
 EMH are very welcome. Please make contact in advance if you require additi
 onal support so it can be organised.\n\nDetails of free meal provided: Bre
 akfast at 10am\; lunch at 12.30 pm and tea at 3.30 pm – all healthy and 
 free\n\nVenue name and address: Adventure Play Hub\, 51 – 56 St. John’
 s Wood Terrace\, London NW8 6LP\nNearest bus stop: St. John’s Wood\nNear
 est tube stop: St. John’s Wood\n\nContact email: hello@adventureplayhub
 .org\nContact phone number: 020 7586 1884\n\n*Cost for non-Free School Mea
 ls Children and Young People: Means-tested. Free spaces available for fami
 lies experiencing financial hardship and do not meet criteria for Free Sch
 ool Meals\, please make contact to arrange your place.\n\nBooking required
  – you are advised to book early as we get booked up very quickly\n\nFur
 ther Details\n\nAdventure Play Hub
ATTACH;FMTTYPE=image/jpeg:https://i0.wp.com/westbourneforum.org.uk/wp-cont
 ent/uploads/2024/07/Summer-Holiday-Play-Provision-2024-with-Adventure-Play
 -Hub-banner.webp?fit=800%2C445&ssl=1
LOCATION:Adventure Play Hub\, St. John’s Wood Terrace\, London\, England\
 , NW8 6LP\, Westminster\, United Kingdom
GEO:51.535368;-0.167804
X-APPLE-STRUCTURED-LOCATION;VALUE=URI;X-ADDRESS=St. John’s Wood Terrace\,
  London\, England\, NW8 6LP\, Westminster\, United Kingdom;X-APPLE-RADIUS=
 100;X-TITLE=Adventure Play Hub:geo:51.535368,-0.167804
ORGANIZER;CN="Westbourne Forum":MAILTO:westbourne-admin@westbourneforum.org.uk
END:VEVENT
BEGIN:VTIMEZONE
TZID:Europe/London
X-LIC-LOCATION:Europe/London
BEGIN:DAYLIGHT
DTSTART:20240331T020000
TZOFFSETFROM:+0000
TZOFFSETTO:+0100
TZNAME:BST
END:DAYLIGHT
END:VTIMEZONE
END:VCALENDAR