BEGIN:VCALENDAR
VERSION:2.0
PRODID:-//wp-events-plugin.com//7.2.3.1//EN
TZID:Europe/London
X-WR-TIMEZONE:Europe/London
BEGIN:VEVENT
UID:1-6714@westbourneforum.org.uk
DTSTART;TZID=Europe/London:20230802T130000
DTEND;TZID=Europe/London:20230802T170000
DTSTAMP:20230804T010146Z
URL:https://westbourneforum.org.uk/events/summer-boxing-camp-2023-08-02/
SUMMARY:Summer Boxing Camp
DESCRIPTION:PLEASE NOTE: This project is part of the Holiday Activities &am
 p\; Food ( HAF ) Programme\, for young people living in Westminster who ar
 e eligible for free school meals* Join Treasure Boxing club this summer! 4
  hours of fun\, exercise\, team work\, one on one competitions\, drills\, 
 mental well-being workshop and lunch.16 days through the summer holidays.\
 n\nDetails of free meal provided: Sandwich\, Yogurt and Fruit\n\nNearest 
 bus stop: 18 and 36\nNearest tube stop: Queens Park\n\nContact email: T
 reasureboxingclub@gmail.com\nContact phone number: 020 7286 2911\n\n*Cost 
 for non-Free School Meals Children and Young People: FREE\n\nBooking requ
 ired.\n\n\n\nhttps://www.treasureboxingclub.com/pages/school-holiday-camp\
 nYoung Westminster Foundation
ATTACH;FMTTYPE=image/jpeg:https://i0.wp.com/westbourneforum.org.uk/wp-cont
 ent/uploads/2023/07/Treasures-Summer-Boxing-Camp-header.webp?fit=1080%2C60
 1&ssl=1
LOCATION:Moberly Sports Centre\, 25 Chamberlayne Road\, Kensal Rise\, Londo
 n\, NW10 3NB\, England\, United Kingdom
GEO:51.530933;-0.216572
X-APPLE-STRUCTURED-LOCATION;VALUE=URI;X-ADDRESS=25 Chamberlayne Road\, Kens
 al Rise\, London\, NW10 3NB\, England\, United Kingdom;X-APPLE-RADIUS=100;
 X-TITLE=Moberly Sports Centre:geo:51.530933,-0.216572
ORGANIZER;CN="Westbourne Forum":MAILTO:westbourne-admin@westbourneforum.org.uk
END:VEVENT
BEGIN:VTIMEZONE
TZID:Europe/London
X-LIC-LOCATION:Europe/London
BEGIN:DAYLIGHT
DTSTART:20230326T020000
TZOFFSETFROM:+0000
TZOFFSETTO:+0100
TZNAME:BST
END:DAYLIGHT
END:VTIMEZONE
END:VCALENDAR