BEGIN:VCALENDAR
VERSION:2.0
PRODID:-//wp-events-plugin.com//7.2.3.1//EN
TZID:Europe/London
X-WR-TIMEZONE:Europe/London
BEGIN:VEVENT
UID:1-7685@westbourneforum.org.uk
DTSTART;TZID=Europe/London:20231114T130000
DTEND;TZID=Europe/London:20231114T150000
DTSTAMP:20231105T203751Z
URL:https://westbourneforum.org.uk/events/storytelling-project-stories-of-
 the-middle-east-and-north-africa-2023-11-14/
SUMMARY:Storytelling Project: Stories Of The Middle East And North Africa
DESCRIPTION:Following the success of our Olive Jar performance\, we are con
 tinuing to celebrate the stories of West London’s Arab communities. Over
  the next year\, we will be working with a professional visual artist of A
 rab heritage to explore how these stories can inspire the group to create 
 their own artworks.\n\nThe group will grow their skills\, exchange their s
 tories\, share food and laughter\, and work together towards a group exhib
 ition in the summer of 2024.\n\nFind out more: enrolment@grandjunction.org
 .uk\n\nFREE. Registration required\n\nMore information\n\n
ATTACH;FMTTYPE=image/jpeg:https://i0.wp.com/westbourneforum.org.uk/wp-cont
 ent/uploads/2023/09/Storytelling-Project-Stories-Of-The-Middle-East-And-No
 rth-Africa.webp?fit=1000%2C557&ssl=1
LOCATION:Grand Junction\, St Mary Magdalene Church\, Rowington Close\, West
 minster\, London\, W2 5TF\, England\, United Kingdom
GEO:51.5224;-0.188497
X-APPLE-STRUCTURED-LOCATION;VALUE=URI;X-ADDRESS=St Mary Magdalene Church\, 
 Rowington Close\, Westminster\, London\, W2 5TF\, England\, United Kingdom
 ;X-APPLE-RADIUS=100;X-TITLE=Grand Junction:geo:51.5224,-0.188497
ORGANIZER;CN="Westbourne Forum":MAILTO:westbourne-admin@westbourneforum.org.uk
END:VEVENT
BEGIN:VTIMEZONE
TZID:Europe/London
X-LIC-LOCATION:Europe/London
BEGIN:STANDARD
DTSTART:20231029T010000
TZOFFSETFROM:+0100
TZOFFSETTO:+0000
TZNAME:GMT
END:STANDARD
END:VTIMEZONE
END:VCALENDAR