BEGIN:VCALENDAR
VERSION:2.0
PRODID:-//wp-events-plugin.com//7.2.3.1//EN
TZID:Europe/London
X-WR-TIMEZONE:Europe/London
BEGIN:VEVENT
UID:1-5134@westbourneforum.org.uk
DTSTART;TZID=Europe/London:20230207T180000
DTEND;TZID=Europe/London:20230207T200000
DTSTAMP:20230123T011740Z
URL:https://westbourneforum.org.uk/events/storytelling-project-2023-02-07/
SUMMARY:Storytelling Project
DESCRIPTION:From September we begin a project celebrating the stories of th
 ose in the West London community who come from countries in the Middle Eas
 t and North Africa.\n\nNestled in our local area is a rich heritage of peo
 ple who come from Syria\, Iraq\, Lebanon\, Morocco\, Tunisia\, and many mo
 re. We want to hear your stories\; stories of travel to a new place\, memo
 ries of recipes passed down the generations\, stories of what stays the sa
 me and what changes.\n\nIn these weekly sessions we will be working with a
  group to gather and celebrate these important stories. The group will ref
 lect together\, share stories\, and research family history. Working with 
 theatre professionals\, your stories will be turned into a public performa
 nce in 2023.\n\nThe project is in partnership with Shubbak.\n\nYou need to
  enrol for this session: Click on BOOK A PLACE on the Grand Junction proje
 ct page or complete the form HERE \n\nFor more information or if you woul
 d like some help\, email enrolment@grandjunction.org.uk or call 07541 4776
 77 (Phayaphi)\n\n&nbsp\;\n\nشاركنا قصص من ذكرياتك\, أب
 حث في تاريخ عائلتك.أحصل على مساعدة مختصص
 ين في كتابة القصص وصناعة المسرح. تعرّف عل
 ى ابناء منطقتك\n\nنود الاستماع لحكاياتكم! 
 حكايات الرحيل والتنقل الى الاماكن الجدي
 د. ذكريات عن وصفات أكلات شهية تناقلتها ال
 اجيال. قصص عن ما بقي على حاله و ما تغيرمع 
 الزمن. في ورشة العمل الاسبوعية الجديدة ه
 ذه نحتفل بحكايات سكنة غرب لندن القادمون 
 من الشرق  الاوسط و شمال القارة الافريقي
 ة. سوف نعمل بشكل جماعي ونحتفل بهذه الحكاي
 ات المهمة\n\nمدينتنا غنية بتراث القادمون 
 من سوريا\, العراق\, فلسطين\, لبنان\, المغرب\
 , تونس وغيرها الكثير. نريد الاستماع لكم. أ
 نضموا معنا لهذا المشروع لمشاركتنا حكايا
 تكم\n\nالبرنامج للأعمار من 18 فما فوق\n\n&nbsp\;
 \n\nمتى:  كل ثلاثاء 6 – 8 مساءً 17 يناير –  28 
 مارس\n\nGrand Junction   :أين \n\n:للتسجيل أو الأس
 تفسار راسلونا على\n\nenrolment@grandjunction.org.uk\n\n\n\n
 \n\n\nأو اتصلوا على رقم الهاتف 07541477677 (فيافي
 )\n\n\n\n\n\n\n\n\n\n\n\n\n\n
ATTACH;FMTTYPE=image/jpeg:https://i0.wp.com/westbourneforum.org.uk/wp-cont
 ent/uploads/2023/01/Storytelling-website-header.webp?fit=800%2C445&ssl=1
LOCATION:Grand Junction\, St Mary Magdalene Church\, Rowington Close\, West
 minster\, London\, W2 5TF\, England\, United Kingdom
GEO:51.5224;-0.188497
X-APPLE-STRUCTURED-LOCATION;VALUE=URI;X-ADDRESS=St Mary Magdalene Church\, 
 Rowington Close\, Westminster\, London\, W2 5TF\, England\, United Kingdom
 ;X-APPLE-RADIUS=100;X-TITLE=Grand Junction:geo:51.5224,-0.188497
ORGANIZER;CN="Westbourne Forum":MAILTO:westbourne-admin@westbourneforum.org.uk
END:VEVENT
BEGIN:VTIMEZONE
TZID:Europe/London
X-LIC-LOCATION:Europe/London
BEGIN:STANDARD
DTSTART:20221030T010000
TZOFFSETFROM:+0100
TZOFFSETTO:+0000
TZNAME:GMT
END:STANDARD
END:VTIMEZONE
END:VCALENDAR