BEGIN:VCALENDAR
VERSION:2.0
PRODID:-//wp-events-plugin.com//7.2.3.1//EN
TZID:Europe/London
X-WR-TIMEZONE:Europe/London
BEGIN:VEVENT
UID:1-7160@westbourneforum.org.uk
DTSTART;TZID=Europe/London:20231011T110000
DTEND;TZID=Europe/London:20231011T112000
DTSTAMP:20230803T030050Z
URL:https://westbourneforum.org.uk/events/story-time-at-paddington-childre
 ns-library-in-person-2023-10-11/
SUMMARY:Story time at Paddington Children's Library (in-person)
DESCRIPTION:Stories for the under 5s and their parents/carers.\n\nFree\n\nT
 o book please contact Paddington Library:\n\n020 7641 6200\n\npaddingtonli
 brary@westminster.gov.uk\n\nBooking a place in advance is essential as num
 bers are very limited.
ATTACH;FMTTYPE=image/jpeg:https://i0.wp.com/westbourneforum.org.uk/wp-cont
 ent/uploads/2023/08/Rhyme-and-Story-Time-banner-header.webp?fit=1600%2C890
 &ssl=1
LOCATION:Paddington Children's Library\, Baptist Church\, London\, England\
 , W2 5DX\, Westminster\, United Kingdom
GEO:51.518639;-0.189492
X-APPLE-STRUCTURED-LOCATION;VALUE=URI;X-ADDRESS=Baptist Church\, London\, E
 ngland\, W2 5DX\, Westminster\, United Kingdom;X-APPLE-RADIUS=100;X-TITLE=
 Paddington Children's Library:geo:51.518639,-0.189492
ORGANIZER;CN="Westbourne Forum":MAILTO:westbourne-admin@westbourneforum.org.uk
END:VEVENT
BEGIN:VTIMEZONE
TZID:Europe/London
X-LIC-LOCATION:Europe/London
BEGIN:DAYLIGHT
DTSTART:20230326T020000
TZOFFSETFROM:+0000
TZOFFSETTO:+0100
TZNAME:BST
END:DAYLIGHT
END:VTIMEZONE
END:VCALENDAR