BEGIN:VCALENDAR
VERSION:2.0
PRODID:-//wp-events-plugin.com//7.2.3.1//EN
TZID:Europe/London
X-WR-TIMEZONE:Europe/London
BEGIN:VEVENT
UID:1-12016@westbourneforum.org.uk
DTSTART;TZID=Europe/London:20240613T180000
DTEND;TZID=Europe/London:20240613T190000
DTSTAMP:20240605T235437Z
URL:https://westbourneforum.org.uk/events/start4life-club-expectant-parent
 s-2024-06-13/
SUMMARY:Start4Life Club ( expectant parents )
DESCRIPTION:\n\nBooking Form | Phone | Email\n\n
ATTACH;FMTTYPE=image/jpeg:https://i0.wp.com/westbourneforum.org.uk/wp-cont
 ent/uploads/2024/06/Westminster-Change4-Life-Clubs-banner.webp?fit=1070%2C
 595&ssl=1
ORGANIZER;CN="Westbourne Forum":MAILTO:westbourne-admin@westbourneforum.org.uk
END:VEVENT
BEGIN:VTIMEZONE
TZID:Europe/London
X-LIC-LOCATION:Europe/London
BEGIN:DAYLIGHT
DTSTART:20240331T020000
TZOFFSETFROM:+0000
TZOFFSETTO:+0100
TZNAME:BST
END:DAYLIGHT
END:VTIMEZONE
END:VCALENDAR