BEGIN:VCALENDAR
VERSION:2.0
PRODID:-//wp-events-plugin.com//7.2.3.1//EN
TZID:Europe/London
X-WR-TIMEZONE:Europe/London
BEGIN:VEVENT
UID:1-19801@westbourneforum.org.uk
DTSTART;TZID=Europe/London:20251028T100000
DTEND;TZID=Europe/London:20251028T140000
DTSTAMP:20251016T180916Z
URL:https://westbourneforum.org.uk/events/st-peters-ce-primary-ht-oct-2025
 -2025-10-28/
SUMMARY:St Peter's CE Primary HT Oct 2025
DESCRIPTION:\n\nJoin us for an action-packed programme\n\nWe're offering a 
 variety of multi-sports activities including football\, dodgeball\, mini-t
 ennis\, fitness\, speed and agility exercises\, football-tennis\, skipping
 \, and more! Plus\, there will be fun sports challenges with prizes for al
 l participants!*\n\nWe welcome all children and young people\, including t
 hose with educational or physical needs. If your child requires special as
 sistance or 1:1 support\, please get in touch - we're here to help.\n\nPro
  Touch SA is a charitable\, not-for-profit organisation dedicated to creat
 ing opportunities for young people. Whether through our football academy o
 r community engagement events\, we aim to make a positive impact. Our expe
 rienced coaches and staff are committed to engaging children with structur
 ed and fulfilling sessions\, promoting fitness\, health\, and activity.\n\
 nTrip Day\nSubject to weather conditions\, trips can include a day in the 
 park\, cinema or educational setting.\n\nFor any questions\, feel free to 
 reach out and contact our Holiday Programme Team:\n\nPhone: 07874 872 053\
 n\nEmail: holidays@protouchsa.co.uk\n\n*Please note that all activities an
 d programmes are subject to the availability/accessibility of equipment an
 d facilities.\nwww.protouchsa.co.uk | info@protouchsa.co.uk | 07874 87
 2 046 | 07500 421 944
ATTACH;FMTTYPE=image/jpeg:https://i0.wp.com/westbourneforum.org.uk/wp-cont
 ent/uploads/2025/10/St-Peters-CE-Primary-HT-Oct-2025-banner.webp?fit=800%2
 C445&ssl=1
LOCATION:St Peter's CE Primary School\, Chippenham Mews\, London\, England\
 , W9 2AN\, Westminster\, United Kingdom
GEO:51.52394;-0.196671
X-APPLE-STRUCTURED-LOCATION;VALUE=URI;X-ADDRESS=Chippenham Mews\, London\, 
 England\, W9 2AN\, Westminster\, United Kingdom;X-APPLE-RADIUS=100;X-TITLE
 =St Peter's CE Primary School:geo:51.52394,-0.196671
ORGANIZER;CN="Westbourne Forum":MAILTO:westbourne-admin@westbourneforum.org.uk
END:VEVENT
BEGIN:VTIMEZONE
TZID:Europe/London
X-LIC-LOCATION:Europe/London
BEGIN:STANDARD
DTSTART:20251026T010000
TZOFFSETFROM:+0100
TZOFFSETTO:+0000
TZNAME:GMT
END:STANDARD
END:VTIMEZONE
END:VCALENDAR