BEGIN:VCALENDAR
VERSION:2.0
PRODID:-//wp-events-plugin.com//7.2.3.1//EN
TZID:Europe/London
X-WR-TIMEZONE:Europe/London
BEGIN:VEVENT
UID:1-14470@westbourneforum.org.uk
DTSTART;TZID=Europe/London:20231028T100000
DTEND;TZID=Europe/London:20231028T150000
DTSTAMP:20241010T031808Z
URL:https://westbourneforum.org.uk/events/st-andrews-october-half-term-jun
 ior-club-2023-10-28/
SUMMARY:St Andrew's October half-term - Junior Club
DESCRIPTION:The October Project runs for the full half term week\, with act
 ivities every day at the Club.\n\nYoung People will engage with new friend
 s\, and have fun with our Youth Workers.\n\nTo see the full Junior Club pr
 ogramme please click the link\n\nFree for young people. Voluntary donation
 s welcome.\n\nNearest bus stop: Victoria Street\, SW1 – (Stop: Great Smi
 th Street/ Westminster Abbey) Nos: 148\, 211\, 11\nNearest tube stop: St J
 ames’s Park (District &amp\; Circle)\, Westminster (Jubilee\, District &
 amp\; Circle)\n\nNo need to book - Free. Voluntary donations welcome.\n\nF
 urther details\n\nSt Andrew's Youth Club\n\nHeld in St Matthew’s School 
 – entrance in St Ann’s Lane – next door to St Andrew’s Club.
ATTACH;FMTTYPE=image/jpeg:https://i0.wp.com/westbourneforum.org.uk/wp-cont
 ent/uploads/2023/07/Years-Membership-002-header.webp?fit=800%2C445&ssl=1
LOCATION:St Matthew's School\, 12 Old Pye Street\, London\, England\, SW1P 
 2DG\, Westminster\, United Kingdom
GEO:51.497402;-0.131347
X-APPLE-STRUCTURED-LOCATION;VALUE=URI;X-ADDRESS=12 Old Pye Street\, London\
 , England\, SW1P 2DG\, Westminster\, United Kingdom;X-APPLE-RADIUS=100;X-T
 ITLE=St Matthew's School:geo:51.497402,-0.131347
ORGANIZER;CN="Jason":MAILTO:west@fanatix.org.uk
END:VEVENT
BEGIN:VTIMEZONE
TZID:Europe/London
X-LIC-LOCATION:Europe/London
BEGIN:DAYLIGHT
DTSTART:20230326T020000
TZOFFSETFROM:+0000
TZOFFSETTO:+0100
TZNAME:BST
END:DAYLIGHT
END:VTIMEZONE
END:VCALENDAR