BEGIN:VCALENDAR
VERSION:2.0
PRODID:-//wp-events-plugin.com//7.2.3.1//EN
TZID:Europe/London
X-WR-TIMEZONE:Europe/London
BEGIN:VEVENT
UID:1-6350@westbourneforum.org.uk
DTSTART;TZID=Europe/London:20230822T103000
DTEND;TZID=Europe/London:20230822T143000
DTSTAMP:20230713T032220Z
URL:https://westbourneforum.org.uk/events/sports-and-games-at-queens-park-
 library-2023-08-22/
SUMMARY:Sports And Games At Queens Park Library
DESCRIPTION:PLEASE NOTE: This project is part of the Holiday Activities &a
 mp\; Food (HAF) Programme\, for young people in Westminster who are eligib
 le for Free School Meals.*\n\nPlease join SportWest for a day of sporting 
 activities guaranteed to get your child fit and healthy during the session
 s. We have specialist staff dedicated to ensuring that activities are suit
 ed for all irrespective of age and level ability.\n\nYour child will engag
 e in activities to help with their hand eye co-ordination skills and balan
 ce\; ability to work in a team\; striking and ability to think rapidly on 
 their feet. We have truly got you covered! And oh\, I forgot\, they will h
 ave the biggest smile by the end of the session - guaranteed!!!\n\nDetails
  of free meal provided: Healthy lunch of assorted sandwiches\, fruit and a
  drink (water/juice)\n\nNearest bus stop: Fifth Avenue/Queen’s Park Libr
 ary\n\nContact email: queensparklibrary@westminster.gov.uk\nContact phone 
 number: 020 7641 6200\n\n*Cost for non-Free School Meals Children and Youn
 g People: Free\n\nNo booking required
ATTACH;FMTTYPE=image/jpeg:https://i0.wp.com/westbourneforum.org.uk/wp-cont
 ent/uploads/2023/07/Updated-Logo-final_2023-07-04-090114_xxdw-header.webp?
 fit=800%2C445&ssl=1
LOCATION:Queens Park Library\, 666 Harrow Road\, Queen's Park\, England\, W
 10 4NE\, Westminster\, United Kingdom
GEO:51.527023;-0.210938
X-APPLE-STRUCTURED-LOCATION;VALUE=URI;X-ADDRESS=666 Harrow Road\, Queen's P
 ark\, England\, W10 4NE\, Westminster\, United Kingdom;X-APPLE-RADIUS=100;
 X-TITLE=Queens Park Library:geo:51.527023,-0.210938
ORGANIZER;CN="Westbourne Forum":MAILTO:westbourne-admin@westbourneforum.org.uk
END:VEVENT
BEGIN:VTIMEZONE
TZID:Europe/London
X-LIC-LOCATION:Europe/London
BEGIN:DAYLIGHT
DTSTART:20230326T020000
TZOFFSETFROM:+0000
TZOFFSETTO:+0100
TZNAME:BST
END:DAYLIGHT
END:VTIMEZONE
END:VCALENDAR