BEGIN:VCALENDAR
VERSION:2.0
PRODID:-//wp-events-plugin.com//7.2.3.1//EN
TZID:Europe/London
X-WR-TIMEZONE:Europe/London
BEGIN:VEVENT
UID:1-6494@westbourneforum.org.uk
DTSTART;TZID=Europe/London:20230816T090000
DTEND;TZID=Europe/London:20230816T140000
DTSTAMP:20230713T215810Z
URL:https://westbourneforum.org.uk/events/sportathon-2023-08-16/
SUMMARY:Sportathon
DESCRIPTION:PLEASE NOTE: This project is part of the Holiday Activities &a
 mp\; Food ( HAF ) Programme\, for young people in Westminster who are elig
 ible for Free School Meals.*\n\nProviding a variation of activities for be
 ginners to advanced with a selection of different coaches from the respect
 ive sport.\n\n- 09:00-10:00 skateboarding ( Royal Oak )\n- 10:00-11:00 - f
 ootball ( academy sport )\n- 11:00-12:00 - basketball ( royal oak )\n- 13:
 00-14:00 - boxing ( Kensington Leisure Centre )\n\nNearest bus stop: Westm
 inster Academy Cirencester Street\nNearest tube stop: Royal Oak train stat
 ion\n\nContact email: Hurdles2Hoops@gmail.com\nContact phone number: ‪+1
  (876) 571‑7103 (WhatsApp only)\n\n*Cost for non-Free School Meals Child
 ren and Young People: £7.50\n\nBooking required
ATTACH;FMTTYPE=image/jpeg:https://i0.wp.com/westbourneforum.org.uk/wp-cont
 ent/uploads/2023/07/Hurdles2Hoops.webp?fit=800%2C445&ssl=1
LOCATION:Academy Sport\, Torquay Street\, London\, England\, W2 5EW\, Westm
 inster\, United Kingdom
GEO:51.520158;-0.19229
X-APPLE-STRUCTURED-LOCATION;VALUE=URI;X-ADDRESS=Torquay Street\, London\, E
 ngland\, W2 5EW\, Westminster\, United Kingdom;X-APPLE-RADIUS=100;X-TITLE=
 Academy Sport:geo:51.520158,-0.19229
ORGANIZER;CN="Westbourne Forum":MAILTO:westbourne-admin@westbourneforum.org.uk
END:VEVENT
BEGIN:VTIMEZONE
TZID:Europe/London
X-LIC-LOCATION:Europe/London
BEGIN:DAYLIGHT
DTSTART:20230326T020000
TZOFFSETFROM:+0000
TZOFFSETTO:+0100
TZNAME:BST
END:DAYLIGHT
END:VTIMEZONE
END:VCALENDAR