BEGIN:VCALENDAR
VERSION:2.0
PRODID:-//wp-events-plugin.com//7.2.3.1//EN
TZID:Europe/London
X-WR-TIMEZONE:Europe/London
BEGIN:VEVENT
UID:1-8620@westbourneforum.org.uk
DTSTART;TZID=Europe/London:20231022T160000
DTEND;TZID=Europe/London:20231022T180000
DTSTAMP:20231018T013239Z
URL:https://westbourneforum.org.uk/events/sport4health-badminton-2023-10-2
 2/
SUMMARY:Sport4health Badminton
DESCRIPTION:Come along and join us for some fun badminton with other Filipi
 no families (all genders\, ages and abilities welcomed).\n\nNearest bus st
 op: Rochester Row (U) or Warwick Way (T)\nNearest tube stop: Victoria\n\nC
 ontact email: info@sport4health.co.uk\n\nContact phone number: 07768 076 4
 59\n\nBooking required.\n\nAGE RANGE: 11 - 25 | PRICE: FREE | ACTIVITY BY:
  SPORT4HEALTH CIC\n\nourcity.org.uk/westminster-half-term
ATTACH;FMTTYPE=image/jpeg:https://i0.wp.com/westbourneforum.org.uk/wp-cont
 ent/uploads/2023/10/Filipino-Family-Badminton-banner.webp?fit=800%2C445&ss
 l=1
LOCATION:Queen Mother Sports Centre\, 223 Vauxhall Bridge Road\, London\, E
 ngland\, SW1V 1EL\, Westminster\, United Kingdom
GEO:51.493701;-0.14052
X-APPLE-STRUCTURED-LOCATION;VALUE=URI;X-ADDRESS=223 Vauxhall Bridge Road\, 
 London\, England\, SW1V 1EL\, Westminster\, United Kingdom;X-APPLE-RADIUS=
 100;X-TITLE=Queen Mother Sports Centre:geo:51.493701,-0.14052
ORGANIZER;CN="Westbourne Forum":MAILTO:westbourne-admin@westbourneforum.org.uk
END:VEVENT
BEGIN:VTIMEZONE
TZID:Europe/London
X-LIC-LOCATION:Europe/London
BEGIN:DAYLIGHT
DTSTART:20230326T020000
TZOFFSETFROM:+0000
TZOFFSETTO:+0100
TZNAME:BST
END:DAYLIGHT
END:VTIMEZONE
END:VCALENDAR