BEGIN:VCALENDAR
VERSION:2.0
PRODID:-//wp-events-plugin.com//7.2.3.1//EN
TZID:Europe/London
X-WR-TIMEZONE:Europe/London
BEGIN:VEVENT
UID:1-14565@westbourneforum.org.uk
DTSTART;TZID=Europe/London:20241028T103000
DTEND;TZID=Europe/London:20241028T123000
DTSTAMP:20241013T043004Z
URL:https://westbourneforum.org.uk/events/sport-for-confidence-open-day-fr
 ee-taster-sessions/
SUMMARY:Sport for Confidence Open Day - Free Taster Sessions
DESCRIPTION:\n\nWe are pleased to share that we will be holding an Open Day
  at Moberly Sports Centre in London on Monday\, 28th October and we would 
 love for you to join us!\n\nThe Sport for Confidence team will be discussi
 ng the benefits of physical activity on health and wellbeing\, alongside d
 elivering free taster sessions of Boccia\, Racket Sports and Seated Gentle
  Exercise. This is an open invite to all carers\, health professionals\, c
 urrent and potential new participants\, organisations etc.\n\nCome and mee
 t the team and try a new activity! Please see our flyer below for more det
 ails.\n\n&#x1f449\; Please register your interest here - https://tinyurl.c
 om/573jm8aj or email Ava Thomas - ava@sportforconfidence.com if you are in
 terested in attending or if you would like further details about the day.\
 n\nAdditionally\, please note that we have a new physical activity session
  called Stronger My Way being delivered at Moberly Sports Centre for peopl
 e diagnosed with Parkinson’s disease.\n\nFor more information on the ses
 sion\, please contact Occupational Therapist\, Ava - ava@sportforconfidenc
 e.com.\nEmail | Website | Facebook | X | YouTube | LinkedIn | Instagram | 
 TikTok
ATTACH;FMTTYPE=image/jpeg:https://i0.wp.com/westbourneforum.org.uk/wp-cont
 ent/uploads/2024/10/sport-for-confidence-Open-Day-Free-Taster-Sessions-ban
 ner.webp?fit=800%2C445&ssl=1
LOCATION:Moberly Sports Centre\, 25 Chamberlayne Road\, Kensal Rise\, Londo
 n\, NW10 3NB\, England\, United Kingdom
GEO:51.530933;-0.216572
X-APPLE-STRUCTURED-LOCATION;VALUE=URI;X-ADDRESS=25 Chamberlayne Road\, Kens
 al Rise\, London\, NW10 3NB\, England\, United Kingdom;X-APPLE-RADIUS=100;
 X-TITLE=Moberly Sports Centre:geo:51.530933,-0.216572
ORGANIZER;CN="Westbourne Forum":MAILTO:westbourne-admin@westbourneforum.org.uk
END:VEVENT
BEGIN:VTIMEZONE
TZID:Europe/London
X-LIC-LOCATION:Europe/London
BEGIN:STANDARD
DTSTART:20241027T010000
TZOFFSETFROM:+0100
TZOFFSETTO:+0000
TZNAME:GMT
END:STANDARD
END:VTIMEZONE
END:VCALENDAR