BEGIN:VCALENDAR
VERSION:2.0
PRODID:-//wp-events-plugin.com//7.2.3.1//EN
TZID:Europe/London
X-WR-TIMEZONE:Europe/London
BEGIN:VEVENT
UID:1-14458@westbourneforum.org.uk
DTSTART;TZID=Europe/London:20241028T100000
DTEND;TZID=Europe/London:20241028T140000
DTSTAMP:20241028T175902Z
URL:https://westbourneforum.org.uk/events/spooky-half-term-2024-10-28/
SUMMARY:Spooky Half Term
DESCRIPTION:Black History Special Edition\n\nFor younger children\, celebra
 ting Black History\, storytelling\, disco\, games\, sports\, crafts. Macar
 oni and Tacos\n\nThere will be pumpkins and hot soup\, face painting and t
 oasted marshmallows!! &#x1f987\;&#x1f383\; &#x1f47b\;\n\nSEND friendly\n
 We have some training or experience of Special Educational Needs &amp\; Di
 sabilities and are able to accommodate children with low-level needs\, we 
 do not offer 1:1. Contact us to discuss how we can support your child.\n\n
 For Older Kids\n\nFree\n\nBooking and further details\n\nHappy Lizzy
ATTACH;FMTTYPE=image/jpeg:https://i0.wp.com/westbourneforum.org.uk/wp-cont
 ent/uploads/2024/10/Spooky-Half-Term-banner.webp?fit=800%2C445&ssl=1
LOCATION:Happy Hub\, 23 Third Avenue\, Queen's Park\, England\, W10 4RS\, W
 estminster\, United Kingdom
GEO:51.528003;-0.207694
X-APPLE-STRUCTURED-LOCATION;VALUE=URI;X-ADDRESS=23 Third Avenue\, Queen's P
 ark\, England\, W10 4RS\, Westminster\, United Kingdom;X-APPLE-RADIUS=100;
 X-TITLE=Happy Hub:geo:51.528003,-0.207694
ORGANIZER;CN="Westbourne Forum":MAILTO:westbourne-admin@westbourneforum.org.uk
END:VEVENT
BEGIN:VTIMEZONE
TZID:Europe/London
X-LIC-LOCATION:Europe/London
BEGIN:STANDARD
DTSTART:20241027T010000
TZOFFSETFROM:+0100
TZOFFSETTO:+0000
TZNAME:GMT
END:STANDARD
END:VTIMEZONE
END:VCALENDAR