BEGIN:VCALENDAR
VERSION:2.0
PRODID:-//wp-events-plugin.com//7.2.3.1//EN
TZID:Europe/London
X-WR-TIMEZONE:Europe/London
BEGIN:VEVENT
UID:1-11668@westbourneforum.org.uk
DTSTART;TZID=Europe/London:20240201T190000
DTEND;TZID=Europe/London:20240201T200000
DTSTAMP:20240506T200646Z
URL:https://westbourneforum.org.uk/events/south-westminster-female-only-bo
 xing-2024-02-01/
SUMMARY:South Westminster Female Only Boxing
DESCRIPTION:Female only boxing classes\n\nSEND FRIENDLY\nWe have some train
 ing or experience of Special Educational Needs &amp\; Disabilities and are
  able to accommodate children with low-level needs\, we do not offer 1:1. 
 Contact us to discuss how we can support your child.\n\nBooking and Furthe
 r Info
ATTACH;FMTTYPE=image/jpeg:https://i0.wp.com/westbourneforum.org.uk/wp-cont
 ent/uploads/2024/05/South-Westminster-Female-Only-Boxing-banner.webp?fit=8
 00%2C445&ssl=1
LOCATION:Churchill Residents Hall\, Churchill Gardens\, London\, England\, 
 SW1V 3AL\, Westminster\, United Kingdom
GEO:51.486583;-0.142577
X-APPLE-STRUCTURED-LOCATION;VALUE=URI;X-ADDRESS=Churchill Gardens\, London\
 , England\, SW1V 3AL\, Westminster\, United Kingdom;X-APPLE-RADIUS=100;X-T
 ITLE=Churchill Residents Hall:geo:51.486583,-0.142577
ORGANIZER;CN="Westbourne Forum":MAILTO:westbourne-admin@westbourneforum.org.uk
END:VEVENT
BEGIN:VTIMEZONE
TZID:Europe/London
X-LIC-LOCATION:Europe/London
BEGIN:STANDARD
DTSTART:20231029T010000
TZOFFSETFROM:+0100
TZOFFSETTO:+0000
TZNAME:GMT
END:STANDARD
END:VTIMEZONE
END:VCALENDAR